BEGIN:VCALENDAR
VERSION:2.0
PRODID:-//Vikingarnas Segel Sällskap - ECPv6.15.20//NONSGML v1.0//EN
CALSCALE:GREGORIAN
METHOD:PUBLISH
X-WR-CALNAME:Vikingarnas Segel Sällskap
X-ORIGINAL-URL:https://vss.nu
X-WR-CALDESC:Händelser för Vikingarnas Segel Sällskap
REFRESH-INTERVAL;VALUE=DURATION:PT1H
X-Robots-Tag:noindex
X-PUBLISHED-TTL:PT1H
BEGIN:VTIMEZONE
TZID:Europe/Stockholm
BEGIN:DAYLIGHT
TZOFFSETFROM:+0100
TZOFFSETTO:+0200
TZNAME:CEST
DTSTART:20240331T010000
END:DAYLIGHT
BEGIN:STANDARD
TZOFFSETFROM:+0200
TZOFFSETTO:+0100
TZNAME:CET
DTSTART:20241027T010000
END:STANDARD
BEGIN:DAYLIGHT
TZOFFSETFROM:+0100
TZOFFSETTO:+0200
TZNAME:CEST
DTSTART:20250330T010000
END:DAYLIGHT
BEGIN:STANDARD
TZOFFSETFROM:+0200
TZOFFSETTO:+0100
TZNAME:CET
DTSTART:20251026T010000
END:STANDARD
BEGIN:DAYLIGHT
TZOFFSETFROM:+0100
TZOFFSETTO:+0200
TZNAME:CEST
DTSTART:20260329T010000
END:DAYLIGHT
BEGIN:STANDARD
TZOFFSETFROM:+0200
TZOFFSETTO:+0100
TZNAME:CET
DTSTART:20261025T010000
END:STANDARD
END:VTIMEZONE
BEGIN:VEVENT
DTSTART;TZID=Europe/Stockholm:20250821T173000
DTEND;TZID=Europe/Stockholm:20250821T203000
DTSTAMP:20260426T040822
CREATED:20241128T202729Z
LAST-MODIFIED:20241128T202729Z
UID:11907-1755797400-1755808200@vss.nu
SUMMARY:Kvällssegling
DESCRIPTION:Kvällssegling för juniorer\, säsongsstart. \nLäs mer >
URL:https://vss.nu/event/kvallssegling-19/
LOCATION:Hundudden\, Hunduddsvägen 55\, Stockholm\, Sverige
CATEGORIES:Juniorkommittén
END:VEVENT
END:VCALENDAR