BEGIN:VCALENDAR
VERSION:2.0
PRODID:-//Vikingarnas Segel Sällskap - ECPv6.15.20//NONSGML v1.0//EN
CALSCALE:GREGORIAN
METHOD:PUBLISH
X-ORIGINAL-URL:https://vss.nu
X-WR-CALDESC:Händelser för Vikingarnas Segel Sällskap
REFRESH-INTERVAL;VALUE=DURATION:PT1H
X-Robots-Tag:noindex
X-PUBLISHED-TTL:PT1H
BEGIN:VTIMEZONE
TZID:Europe/Stockholm
BEGIN:DAYLIGHT
TZOFFSETFROM:+0100
TZOFFSETTO:+0200
TZNAME:CEST
DTSTART:20240331T010000
END:DAYLIGHT
BEGIN:STANDARD
TZOFFSETFROM:+0200
TZOFFSETTO:+0100
TZNAME:CET
DTSTART:20241027T010000
END:STANDARD
BEGIN:DAYLIGHT
TZOFFSETFROM:+0100
TZOFFSETTO:+0200
TZNAME:CEST
DTSTART:20250330T010000
END:DAYLIGHT
BEGIN:STANDARD
TZOFFSETFROM:+0200
TZOFFSETTO:+0100
TZNAME:CET
DTSTART:20251026T010000
END:STANDARD
BEGIN:DAYLIGHT
TZOFFSETFROM:+0100
TZOFFSETTO:+0200
TZNAME:CEST
DTSTART:20260329T010000
END:DAYLIGHT
BEGIN:STANDARD
TZOFFSETFROM:+0200
TZOFFSETTO:+0100
TZNAME:CET
DTSTART:20261025T010000
END:STANDARD
END:VTIMEZONE
BEGIN:VEVENT
DTSTART;TZID=Europe/Stockholm:20251115T113000
DTEND;TZID=Europe/Stockholm:20251115T150000
DTSTAMP:20260426T003953
CREATED:20250310T192954Z
LAST-MODIFIED:20251105T192438Z
UID:12228-1763206200-1763218800@vss.nu
SUMMARY:DSV:s Höstmöte med sillunch
DESCRIPTION:DSVs medlemmar* välkomnas till DSVs Höstmöte med Sillfrukost lördagen den 15 november kl. 11.30 i Klubbhuset på Hundudden.\nProgram:\nHöstmöte\nSillfrukost\nMeny: Matjessill med tillbehör\, inlagda sillar\, potatis\, västerbottenpaj\, bröd/ost\, vatten/öl och kaffe med kaka. Övrigt dryckjom\, må av var och en medtagas efter behov.\nSillfrukosten kostar 100 kr\, betalas till bg 5216-1486 eller på plats.\nHöstmötet kan naturligtvis fritt avnjutas utan frukost. \nAnmälan:\nFöranmälan till frukost\, senast onsdagen den 12 november.\ne-post: dsv@vss.nu\, eller telefon kvällstid: Karin Svärd 0739 656521\nTa gärna med något till lottbordet och kanske någon snapsvisa till sillbordet (helst mångfaldigad för allsång). \nHjärtligt välkommen! \nDSVs styrelse \n* Inte medlem än? Då är du välkommen ändå och får betala 100 kr extra som medlemsavgift för resten av 2025 och hela 2026.
URL:https://vss.nu/event/dsvs-hostmote-med-sillunch/
LOCATION:Klubbhuset\, Hunduddsvägen 55\, Stockholm\, Sverige
CATEGORIES:DSV
END:VEVENT
END:VCALENDAR