BEGIN:VCALENDAR
VERSION:2.0
PRODID:-//Vikingarnas Segel Sällskap - ECPv6.15.20//NONSGML v1.0//EN
CALSCALE:GREGORIAN
METHOD:PUBLISH
X-WR-CALNAME:Vikingarnas Segel Sällskap
X-ORIGINAL-URL:https://vss.nu
X-WR-CALDESC:Händelser för Vikingarnas Segel Sällskap
REFRESH-INTERVAL;VALUE=DURATION:PT1H
X-Robots-Tag:noindex
X-PUBLISHED-TTL:PT1H
BEGIN:VTIMEZONE
TZID:Europe/Stockholm
BEGIN:DAYLIGHT
TZOFFSETFROM:+0100
TZOFFSETTO:+0200
TZNAME:CEST
DTSTART:20240331T010000
END:DAYLIGHT
BEGIN:STANDARD
TZOFFSETFROM:+0200
TZOFFSETTO:+0100
TZNAME:CET
DTSTART:20241027T010000
END:STANDARD
BEGIN:DAYLIGHT
TZOFFSETFROM:+0100
TZOFFSETTO:+0200
TZNAME:CEST
DTSTART:20250330T010000
END:DAYLIGHT
BEGIN:STANDARD
TZOFFSETFROM:+0200
TZOFFSETTO:+0100
TZNAME:CET
DTSTART:20251026T010000
END:STANDARD
BEGIN:DAYLIGHT
TZOFFSETFROM:+0100
TZOFFSETTO:+0200
TZNAME:CEST
DTSTART:20260329T010000
END:DAYLIGHT
BEGIN:STANDARD
TZOFFSETFROM:+0200
TZOFFSETTO:+0100
TZNAME:CET
DTSTART:20261025T010000
END:STANDARD
END:VTIMEZONE
BEGIN:VEVENT
DTSTART;TZID=Europe/Stockholm:20251203T120000
DTEND;TZID=Europe/Stockholm:20251203T160000
DTSTAMP:20260425T232132
CREATED:20250310T193126Z
LAST-MODIFIED:20251119T191609Z
UID:12231-1764763200-1764777600@vss.nu
SUMMARY:Veteranklubbens julbord
DESCRIPTION:VSS Veteranklubb inbjuder härmed till  Jullunch i klubbhuset\n3 december 2025 kl. 12.30\nVälkommen till ett anrikt julbord  (sill\, Janson\, skinka\, köttbullar o.s.v.)  komponerat av Anders Kriström. \nVi ordnar transport för alla t/r  Karlaplan/Hundudden. Samling Karlaplans t-bana uppg. Karlaplan  kl 12.00.  Hemfärd från Hundudden ca. kl 16.00. \nPris 300 kr/pers för julbord och transport.  I maten ingår: glögg och pepparkaka samt alkoholfria drycker.  Betala gärna i förväg på veteranernas konto  pg 82 52 34-8\, eller bg 689-0339.  Öl vin och snaps säljs till självkostnadspris. \n  Anmälan senast 29 november till:  a.kristrom@telia.com / tel. 070-738 81 59. Begränsat antal platser är 30 st – först till kvarn gäller. \nHjärtligt välkomna! Medlemmar såväl som deras partner.\nStyrelsen
URL:https://vss.nu/event/veteranklubbens-julbord-2/
LOCATION:Klubbhuset\, Hunduddsvägen 55\, Stockholm\, Sverige
CATEGORIES:Veteranklubben
END:VEVENT
END:VCALENDAR