BEGIN:VCALENDAR
VERSION:2.0
PRODID:-//Vikingarnas Segel Sällskap - ECPv6.15.20//NONSGML v1.0//EN
CALSCALE:GREGORIAN
METHOD:PUBLISH
X-ORIGINAL-URL:https://vss.nu
X-WR-CALDESC:Händelser för Vikingarnas Segel Sällskap
REFRESH-INTERVAL;VALUE=DURATION:PT1H
X-Robots-Tag:noindex
X-PUBLISHED-TTL:PT1H
BEGIN:VTIMEZONE
TZID:Europe/Stockholm
BEGIN:DAYLIGHT
TZOFFSETFROM:+0100
TZOFFSETTO:+0200
TZNAME:CEST
DTSTART:20250330T010000
END:DAYLIGHT
BEGIN:STANDARD
TZOFFSETFROM:+0200
TZOFFSETTO:+0100
TZNAME:CET
DTSTART:20251026T010000
END:STANDARD
BEGIN:DAYLIGHT
TZOFFSETFROM:+0100
TZOFFSETTO:+0200
TZNAME:CEST
DTSTART:20260329T010000
END:DAYLIGHT
BEGIN:STANDARD
TZOFFSETFROM:+0200
TZOFFSETTO:+0100
TZNAME:CET
DTSTART:20261025T010000
END:STANDARD
BEGIN:DAYLIGHT
TZOFFSETFROM:+0100
TZOFFSETTO:+0200
TZNAME:CEST
DTSTART:20270328T010000
END:DAYLIGHT
BEGIN:STANDARD
TZOFFSETFROM:+0200
TZOFFSETTO:+0100
TZNAME:CET
DTSTART:20271031T010000
END:STANDARD
END:VTIMEZONE
BEGIN:VEVENT
DTSTART;TZID=Europe/Stockholm:20260118T133000
DTEND;TZID=Europe/Stockholm:20260118T153000
DTSTAMP:20260425T221129
CREATED:20250310T193255Z
LAST-MODIFIED:20260111T182935Z
UID:12234-1768743000-1768750200@vss.nu
SUMMARY:Kaffe framför brasan
DESCRIPTION:Vägen till Skärgårdskapten\nAlla vikingar välkomnas på kaffe framför brasan söndagen den 18 januari kl 13.30 i Klubbhuset\, vi bjuder på fika och vikingen Karin Modigh berättar om sin väg till skärgårdskapten. Karin utbildar sig just nu på Marina Läroverkets YH-utbildning till Fartygsbefäl klass VII och har praktiserat på båtar som gått till Svalbard\, på Göta Kanal och i Stockholms skärgård. Hur är det att styra en skärgårdsbåt? Vad ska man som seglare tänka på när man möter båtarna? Karin visar bilder\, berättar om sin utbildning och svarar på frågor. \nDSVs styrelse \nHör gärna av dig om du kommer till kontakt@vss.nu
URL:https://vss.nu/event/kaffe-framfor-brasan-2/
LOCATION:Klubbhuset\, Hunduddsvägen 55\, Stockholm\, Sverige
CATEGORIES:DSV
ATTACH;FMTTYPE=image/jpeg:https://vss.nu/wp/wp-content/uploads/2018/01/kaffe-framfor-brasan.jpg
END:VEVENT
END:VCALENDAR