BEGIN:VCALENDAR
VERSION:2.0
PRODID:-//Vikingarnas Segel Sällskap - ECPv6.15.20//NONSGML v1.0//EN
CALSCALE:GREGORIAN
METHOD:PUBLISH
X-ORIGINAL-URL:https://vss.nu
X-WR-CALDESC:Händelser för Vikingarnas Segel Sällskap
REFRESH-INTERVAL;VALUE=DURATION:PT1H
X-Robots-Tag:noindex
X-PUBLISHED-TTL:PT1H
BEGIN:VTIMEZONE
TZID:Europe/Stockholm
BEGIN:DAYLIGHT
TZOFFSETFROM:+0100
TZOFFSETTO:+0200
TZNAME:CEST
DTSTART:20250330T010000
END:DAYLIGHT
BEGIN:STANDARD
TZOFFSETFROM:+0200
TZOFFSETTO:+0100
TZNAME:CET
DTSTART:20251026T010000
END:STANDARD
BEGIN:DAYLIGHT
TZOFFSETFROM:+0100
TZOFFSETTO:+0200
TZNAME:CEST
DTSTART:20260329T010000
END:DAYLIGHT
BEGIN:STANDARD
TZOFFSETFROM:+0200
TZOFFSETTO:+0100
TZNAME:CET
DTSTART:20261025T010000
END:STANDARD
BEGIN:DAYLIGHT
TZOFFSETFROM:+0100
TZOFFSETTO:+0200
TZNAME:CEST
DTSTART:20270328T010000
END:DAYLIGHT
BEGIN:STANDARD
TZOFFSETFROM:+0200
TZOFFSETTO:+0100
TZNAME:CET
DTSTART:20271031T010000
END:STANDARD
END:VTIMEZONE
BEGIN:VEVENT
DTSTART;VALUE=DATE:20260619
DTEND;VALUE=DATE:20260622
DTSTAMP:20260425T170605
CREATED:20260312T193943Z
LAST-MODIFIED:20260312T193943Z
UID:13450-1781827200-1782086399@vss.nu
SUMMARY:Midsommar på Ekholmen
DESCRIPTION:Traditionellt midsommarfirande med midsommarstång\, sillunch\, lekar\, grillning på kvällen och dans. Utförligt program kommer.
URL:https://vss.nu/event/midsommar-pa-ekholmen/
CATEGORIES:Ekholmen,Klubbkommittén
END:VEVENT
BEGIN:VEVENT
DTSTART;TZID=Europe/Stockholm:20260620T100000
DTEND;TZID=Europe/Stockholm:20260620T143000
DTSTAMP:20260425T170605
CREATED:20260312T192444Z
LAST-MODIFIED:20260312T192757Z
UID:13444-1781949600-1781965800@vss.nu
SUMMARY:DSVs barkbåtsbyggartävling + Smaktävling
DESCRIPTION:På midsommardagen står DSV (Diskussionsklubben Seglar Vännerna) för aktiviteterna på Ekholmen. På förmiddagen startar Barkbåtsbyggartävlingen. Här kan alla ställa upp\, både stora och små. En ”jury” bedömer de inlämnade alstren anonymt och hänsyn tas till ålder\, fantasi och täljskicklighet. Hänsyn tas också till hur mycket naturmaterial som använts\, så skippa tejp\, lim\, snören\, papper och tyg för att komma högt upp i resultatlistan. Bidragen ska vara inlämnade senast kl 13.00. \nFör den som bara flanerar runt på ön och inte har lust att skapa ett flytetyg arrangeras smaktävlingen fram till kl 13.00. Där ska 3-4 smaker med hjälp av olika alternativ prickas in. Och för att en vinnare ska kunna koras (ifall fler än en person har alla rätt  finns en utslagsfråga också\, så välkommen att testa dina smaklökar! \nPrisutdelning för både barkbåtsbygget och smaktävlingen sker runt kl 14.00. \nVälkommen! \nDSVs styrelse
URL:https://vss.nu/event/dsvs-barkbatsbyggartavling-smaktavling-2/
LOCATION:Ekholmen\, Storsaxaren\, Vaxholm\, Sverige
CATEGORIES:DSV,Ekholmen
END:VEVENT
END:VCALENDAR