BEGIN:VCALENDAR
VERSION:2.0
PRODID:-//Vikingarnas Segel Sällskap - ECPv6.15.20//NONSGML v1.0//EN
CALSCALE:GREGORIAN
METHOD:PUBLISH
X-ORIGINAL-URL:https://vss.nu
X-WR-CALDESC:Händelser för Vikingarnas Segel Sällskap
REFRESH-INTERVAL;VALUE=DURATION:PT1H
X-Robots-Tag:noindex
X-PUBLISHED-TTL:PT1H
BEGIN:VTIMEZONE
TZID:Europe/Stockholm
BEGIN:DAYLIGHT
TZOFFSETFROM:+0100
TZOFFSETTO:+0200
TZNAME:CEST
DTSTART:20240331T010000
END:DAYLIGHT
BEGIN:STANDARD
TZOFFSETFROM:+0200
TZOFFSETTO:+0100
TZNAME:CET
DTSTART:20241027T010000
END:STANDARD
BEGIN:DAYLIGHT
TZOFFSETFROM:+0100
TZOFFSETTO:+0200
TZNAME:CEST
DTSTART:20250330T010000
END:DAYLIGHT
BEGIN:STANDARD
TZOFFSETFROM:+0200
TZOFFSETTO:+0100
TZNAME:CET
DTSTART:20251026T010000
END:STANDARD
BEGIN:DAYLIGHT
TZOFFSETFROM:+0100
TZOFFSETTO:+0200
TZNAME:CEST
DTSTART:20260329T010000
END:DAYLIGHT
BEGIN:STANDARD
TZOFFSETFROM:+0200
TZOFFSETTO:+0100
TZNAME:CET
DTSTART:20261025T010000
END:STANDARD
END:VTIMEZONE
BEGIN:VEVENT
DTSTART;TZID=Europe/Stockholm:20250506T180000
DTEND;TZID=Europe/Stockholm:20250506T203000
DTSTAMP:20260426T032715
CREATED:20250307T185122Z
LAST-MODIFIED:20250307T185122Z
UID:12099-1746554400-1746563400@vss.nu
SUMMARY:Städkväll på varvet
DESCRIPTION:Samling kl. 18.00\, ingen föranmälan.
URL:https://vss.nu/event/stadkvall-pa-varvet-2/
LOCATION:Hundudden\, Hunduddsvägen 55\, Stockholm\, Sverige
CATEGORIES:Arbetstillfälle
END:VEVENT
BEGIN:VEVENT
DTSTART;VALUE=DATE:20250510
DTEND;VALUE=DATE:20250512
DTSTAMP:20260426T032715
CREATED:20250307T185350Z
LAST-MODIFIED:20250427T195916Z
UID:12102-1746835200-1747007999@vss.nu
SUMMARY:Öppningshelg på Ekholmen
DESCRIPTION:Vi startar på lördagen kl.09.00 i klubbhuset för att att göra klubbholmen och klubbhuset  redo för säsongen.  Detta är ett utmärkt tillfälle att träffa gamla och nya vänner och arbeta tillsammans. \nDagen avslutas med  samling och gemensam middag i klubbhuset kl.18.00. Klubben bjuder alla som deltar på mat och dryck.  \nSöndagen startar även den kl 09.00  och brukar kunna avslutas vid 14 – 15 tiden. Arbetet räknas självklart av mot din arbetsplikt.  \nFör er som ämnar komma enbart till söndag kan det bli begränsade möjligheter att utföra arbeten mot arbetsplikten\, \nAlla medlemmar är välkomna att delta. Vi ser fram emot att träffa er alla och uppleva den traditionella gemenskapen som Vikingarnas Segelsällskap är känt för. \nOSA senast tisdag den 6 maj\, meddela hur många vuxna och hur många barn ni blir.  \nSvaret mailas till: forvaltareekholmen@vss.nu.
URL:https://vss.nu/event/oppningshelg-pa-ekholmen/
LOCATION:Ekholmen\, Storsaxaren\, Vaxholm\, Sverige
CATEGORIES:Arbetstillfälle,Ekholmen
END:VEVENT
BEGIN:VEVENT
DTSTART;VALUE=DATE:20250524
DTEND;VALUE=DATE:20250526
DTSTAMP:20260426T032715
CREATED:20250310T183235Z
LAST-MODIFIED:20250513T180114Z
UID:12131-1748044800-1748217599@vss.nu
SUMMARY:Arbetshelg på Ekholmen
DESCRIPTION:Välkommen till Ekholmens arbetshelg 24 -25 maj 2025.\nLördag\n09.00 samling vid klubbhuset fördelning arbetsuppgifter.\n11.00 kaffe i klubbhuset.\nDen egna lunchtiden bestäms utifrån tycke\, smak\, arbete och hunger.\n16.00 Avslut\, bastun är varm. \nSöndag\n09.00 samling vid klubbhuset fördelning arbetsuppgifter.\n11.00 kaffe i klubbhuset.\nDen egna lunchtiden bestäms utifrån tycke\, smak\, arbete och hunger.\n15.00 Avslut \nOBS. Planerar du att komma sent på lör eller sön kan vi inte alltid garantera att du kan göra alla timmar av din arbetsplikt. \nMed vänliga hälsningar \nGöran Ek\nFörvaltare Ekholmen\nTel: 070 742 25 05 \nMail: goranek52@gmail.com
URL:https://vss.nu/event/arbetshelg-pa-ekholmen/
LOCATION:Ekholmen\, Storsaxaren\, Vaxholm\, Sverige
CATEGORIES:Arbetstillfälle,Ekholmen
END:VEVENT
BEGIN:VEVENT
DTSTART;TZID=Europe/Stockholm:20250527T180000
DTEND;TZID=Europe/Stockholm:20250527T203000
DTSTAMP:20260426T032715
CREATED:20250310T183603Z
LAST-MODIFIED:20250310T183603Z
UID:12137-1748368800-1748377800@vss.nu
SUMMARY:Städkväll på varvet
DESCRIPTION:Samling kl 18.00\, ingen anmälan.
URL:https://vss.nu/event/stadkvall-pa-varvet-5/
LOCATION:Hundudden\, Hunduddsvägen 55\, Stockholm\, Sverige
CATEGORIES:Arbetstillfälle
END:VEVENT
END:VCALENDAR