BEGIN:VCALENDAR
VERSION:2.0
PRODID:-//Vikingarnas Segel Sällskap - ECPv6.15.20//NONSGML v1.0//EN
CALSCALE:GREGORIAN
METHOD:PUBLISH
X-WR-CALNAME:Vikingarnas Segel Sällskap
X-ORIGINAL-URL:https://vss.nu
X-WR-CALDESC:Händelser för Vikingarnas Segel Sällskap
REFRESH-INTERVAL;VALUE=DURATION:PT1H
X-Robots-Tag:noindex
X-PUBLISHED-TTL:PT1H
BEGIN:VTIMEZONE
TZID:Europe/Stockholm
BEGIN:DAYLIGHT
TZOFFSETFROM:+0100
TZOFFSETTO:+0200
TZNAME:CEST
DTSTART:20240331T010000
END:DAYLIGHT
BEGIN:STANDARD
TZOFFSETFROM:+0200
TZOFFSETTO:+0100
TZNAME:CET
DTSTART:20241027T010000
END:STANDARD
BEGIN:DAYLIGHT
TZOFFSETFROM:+0100
TZOFFSETTO:+0200
TZNAME:CEST
DTSTART:20250330T010000
END:DAYLIGHT
BEGIN:STANDARD
TZOFFSETFROM:+0200
TZOFFSETTO:+0100
TZNAME:CET
DTSTART:20251026T010000
END:STANDARD
BEGIN:DAYLIGHT
TZOFFSETFROM:+0100
TZOFFSETTO:+0200
TZNAME:CEST
DTSTART:20260329T010000
END:DAYLIGHT
BEGIN:STANDARD
TZOFFSETFROM:+0200
TZOFFSETTO:+0100
TZNAME:CET
DTSTART:20261025T010000
END:STANDARD
END:VTIMEZONE
BEGIN:VEVENT
DTSTART;VALUE=DATE:20250621
DTEND;VALUE=DATE:20250622
DTSTAMP:20260426T063246
CREATED:20250310T183951Z
LAST-MODIFIED:20250605T192311Z
UID:12147-1750464000-1750550399@vss.nu
SUMMARY:DSVs barkbåtsbyggartävling + Smaktävling
DESCRIPTION:På midsommardagen står DSV (Diskussionsklubben Seglar Vännerna) för aktiviteterna på Ekholmen. På förmiddagen startar Barkbåtsbyggartävlingen. Här kan alla ställa upp\, både stora och små. En ”jury” bedömer de inlämnade alstren anonymt och hänsyn tas till ålder\, fantasi och täljskicklighet. Hänsyn tas också till hur mycket naturmaterial som använts\, så skippa tejp\, lim\, snören\, papper och tyg för att komma högt upp i resultatlistan. Bidragen ska vara inlämnade senast kl 13.00. \nFör den som bara flanerar runt på ön och inte har lust att skapa ett flytetyg arrangeras smaktävlingen fram till kl 13.00. Där ska 3-4 smaker med hjälp av olika alternativ prickas in. Och för att en vinnare ska kunna koras (ifall fler än en person har alla rätt 🙂 finns en utslagsfråga också\, så välkommen att testa dina smaklökar! \nPrisutdelning för både barkbåtsbygget och smaktävlingen sker runt kl 14.00. \nVälkommen! \nDSVs styrelse
URL:https://vss.nu/event/dsvs-barkbatsbyggartavling-smaktavling/
LOCATION:Ekholmen\, Storsaxaren\, Vaxholm\, Sverige
CATEGORIES:DSV,Ekholmen
END:VEVENT
END:VCALENDAR