BEGIN:VCALENDAR
VERSION:2.0
PRODID:-//Vikingarnas Segel Sällskap - ECPv6.15.20//NONSGML v1.0//EN
CALSCALE:GREGORIAN
METHOD:PUBLISH
X-WR-CALNAME:Vikingarnas Segel Sällskap
X-ORIGINAL-URL:https://vss.nu
X-WR-CALDESC:Händelser för Vikingarnas Segel Sällskap
REFRESH-INTERVAL;VALUE=DURATION:PT1H
X-Robots-Tag:noindex
X-PUBLISHED-TTL:PT1H
BEGIN:VTIMEZONE
TZID:Europe/Stockholm
BEGIN:DAYLIGHT
TZOFFSETFROM:+0100
TZOFFSETTO:+0200
TZNAME:CEST
DTSTART:20250330T010000
END:DAYLIGHT
BEGIN:STANDARD
TZOFFSETFROM:+0200
TZOFFSETTO:+0100
TZNAME:CET
DTSTART:20251026T010000
END:STANDARD
BEGIN:DAYLIGHT
TZOFFSETFROM:+0100
TZOFFSETTO:+0200
TZNAME:CEST
DTSTART:20260329T010000
END:DAYLIGHT
BEGIN:STANDARD
TZOFFSETFROM:+0200
TZOFFSETTO:+0100
TZNAME:CET
DTSTART:20261025T010000
END:STANDARD
BEGIN:DAYLIGHT
TZOFFSETFROM:+0100
TZOFFSETTO:+0200
TZNAME:CEST
DTSTART:20270328T010000
END:DAYLIGHT
BEGIN:STANDARD
TZOFFSETFROM:+0200
TZOFFSETTO:+0100
TZNAME:CET
DTSTART:20271031T010000
END:STANDARD
END:VTIMEZONE
BEGIN:VEVENT
DTSTART;TZID=Europe/Stockholm:20260822T130000
DTEND;TZID=Europe/Stockholm:20260822T150000
DTSTAMP:20260425T230145
CREATED:20260314T214755Z
LAST-MODIFIED:20260314T214755Z
UID:13470-1787403600-1787410800@vss.nu
SUMMARY:DSV:s Paketsegling
DESCRIPTION:Skepparmöte kl. 13.00. \nHär gäller det inte att komma först… utan tvåa\, i mitten eller näst sist! Seglingen kräver mycket taktik av de startande\, först att starta på rätt tid mellan Ekholmens flaggstång och flaggstång på Lilla Saxaren\, lite oklart vilken. Segla runt Ekholmen\, mellan Stor-Saxaren och Jansons Frestelse utan att få bottenkänning\, vidare mot röda lysbojen som ska rundas och tillbaka in i sundet mellan Stor-Saxaren och Ekholmen utan att fastna i bleke… Målgång där starten gick. Om det är varmt får man dessutom se upp för vattenkrig… \nFörst i mål får äran\, tvåan får punschen och ett chickt punsch-set och räkna placeringen nr 1 i varpatävlingen\, kommer du i mitten får du paddeln som får användas under nästa års Paketsegling\, och skulle du hamna näst sist blir det lilla punschen. \nStartavgiften är förstås ett paket till värdig motståndare!
URL:https://vss.nu/event/dsvs-paketsegling-2/
LOCATION:Ekholmen\, Storsaxaren\, Vaxholm\, Sverige
CATEGORIES:DSV,Ekholmen
END:VEVENT
BEGIN:VEVENT
DTSTART;TZID=Europe/Stockholm:20260822T130000
DTEND;TZID=Europe/Stockholm:20260822T150000
DTSTAMP:20260425T230145
CREATED:20260314T221149Z
LAST-MODIFIED:20260314T221149Z
UID:13479-1787403600-1787410800@vss.nu
SUMMARY:DSV:s Paketsegling
DESCRIPTION:Skepparmöte kl. 13.00. \nI år hoppas vi på att Paketseglingen äntligen blir av efter flera års dåligt väder med för mycket vind etc.\nI Paketseglingen kan alla ställa upp\, för här gäller det inte att komma först… utan tvåa\, i mitten eller näst sist! Seglingen kräver mycket taktik av de startande\, först att starta på rätt tid mellan Ekholmens flaggstång och flaggstång på Lilla Saxaren\, lite oklart vilken. Segla runt Ekholmen\, mellan Stor-Saxaren och Jansons Frestelse utan att få bottenkänning\, vidare mot röda lysbojen som ska rundas och tillbaka in i sundet mellan Stor-Saxaren och Ekholmen utan att fastna i bleke… Målgång där starten gick. Om det är varmt får man dessutom se upp för vattenkrig… \nFörst i mål får äran\, tvåan får punschen och ett chickt punsch-set och räkna placeringen nr 1 i varpatävlingen\, kommer du i mitten får du paddeln som får användas under nästa års Paketsegling\, och skulle du hamna näst sist blir det lilla punschen. \nStartavgiften är förstås ett paket till värdig motståndare!
URL:https://vss.nu/event/dsvs-paketsegling-4/
CATEGORIES:DSV,Ekholmen
END:VEVENT
END:VCALENDAR