BEGIN:VCALENDAR
VERSION:2.0
PRODID:-//Vikingarnas Segel Sällskap - ECPv6.15.20//NONSGML v1.0//EN
CALSCALE:GREGORIAN
METHOD:PUBLISH
X-ORIGINAL-URL:https://vss.nu
X-WR-CALDESC:Händelser för Vikingarnas Segel Sällskap
REFRESH-INTERVAL;VALUE=DURATION:PT1H
X-Robots-Tag:noindex
X-PUBLISHED-TTL:PT1H
BEGIN:VTIMEZONE
TZID:Europe/Stockholm
BEGIN:DAYLIGHT
TZOFFSETFROM:+0100
TZOFFSETTO:+0200
TZNAME:CEST
DTSTART:20250330T010000
END:DAYLIGHT
BEGIN:STANDARD
TZOFFSETFROM:+0200
TZOFFSETTO:+0100
TZNAME:CET
DTSTART:20251026T010000
END:STANDARD
BEGIN:DAYLIGHT
TZOFFSETFROM:+0100
TZOFFSETTO:+0200
TZNAME:CEST
DTSTART:20260329T010000
END:DAYLIGHT
BEGIN:STANDARD
TZOFFSETFROM:+0200
TZOFFSETTO:+0100
TZNAME:CET
DTSTART:20261025T010000
END:STANDARD
BEGIN:DAYLIGHT
TZOFFSETFROM:+0100
TZOFFSETTO:+0200
TZNAME:CEST
DTSTART:20270328T010000
END:DAYLIGHT
BEGIN:STANDARD
TZOFFSETFROM:+0200
TZOFFSETTO:+0100
TZNAME:CET
DTSTART:20271031T010000
END:STANDARD
END:VTIMEZONE
BEGIN:VEVENT
DTSTART;TZID=Europe/Stockholm:20260823T100000
DTEND;TZID=Europe/Stockholm:20260823T120000
DTSTAMP:20260425T230339
CREATED:20260314T215333Z
LAST-MODIFIED:20260314T215333Z
UID:13473-1787479200-1787486400@vss.nu
SUMMARY:DSV:s Varpamästerskap
DESCRIPTION:VM\, varpamästerskap… Naturstenar används\, man kastar sin sten mellan två pinnar. Herr-\, dam- och barn-klass och kombinationstävling segling/varpa där resultatet från gårdagens paketsegling räknas\, 2:an = 1 poäng\, 1:an = 2 poäng\, sedan är det ”normalt”\, 3:an 3 poäng\, 4:an 4 poäng osv. Tävlande från båten i kombinationstävlingen anges vid anmälan till Paketseglingen. Kast längre än 2 meter från pinnen räknas inte\, efter tre kast på mer än 2 meter från pinnen åker man ut. \nSedan blir det utslagstävling\, och där kan man klara sig långt utan att vara inom 2 meters-gränsen. Här gäller det att komma näst sist för att vinna! \nTävlingen är öppen för alla på Ekholmen\, men för dig som är medlem i VSS önskar vi förstås att du också blir medlem i DSV. Årsavgiften för 2026 är bara 100 kr\, kan betalas på plats\, eller till vårt bankgiro 5216-1486. \nPrisutdelning sker på DSVs Höstmöte 14 november\, då det bjuds på sillunch!
URL:https://vss.nu/event/dsvs-varpamasterskap-2/
LOCATION:Ekholmen\, Storsaxaren\, Vaxholm\, Sverige
CATEGORIES:DSV
END:VEVENT
END:VCALENDAR