BEGIN:VCALENDAR
VERSION:2.0
PRODID:-//Vikingarnas Segel Sällskap - ECPv6.15.20//NONSGML v1.0//EN
CALSCALE:GREGORIAN
METHOD:PUBLISH
X-ORIGINAL-URL:https://vss.nu
X-WR-CALDESC:Händelser för Vikingarnas Segel Sällskap
REFRESH-INTERVAL;VALUE=DURATION:PT1H
X-Robots-Tag:noindex
X-PUBLISHED-TTL:PT1H
BEGIN:VTIMEZONE
TZID:Europe/Stockholm
BEGIN:DAYLIGHT
TZOFFSETFROM:+0100
TZOFFSETTO:+0200
TZNAME:CEST
DTSTART:20250330T010000
END:DAYLIGHT
BEGIN:STANDARD
TZOFFSETFROM:+0200
TZOFFSETTO:+0100
TZNAME:CET
DTSTART:20251026T010000
END:STANDARD
BEGIN:DAYLIGHT
TZOFFSETFROM:+0100
TZOFFSETTO:+0200
TZNAME:CEST
DTSTART:20260329T010000
END:DAYLIGHT
BEGIN:STANDARD
TZOFFSETFROM:+0200
TZOFFSETTO:+0100
TZNAME:CET
DTSTART:20261025T010000
END:STANDARD
BEGIN:DAYLIGHT
TZOFFSETFROM:+0100
TZOFFSETTO:+0200
TZNAME:CEST
DTSTART:20270328T010000
END:DAYLIGHT
BEGIN:STANDARD
TZOFFSETFROM:+0200
TZOFFSETTO:+0100
TZNAME:CET
DTSTART:20271031T010000
END:STANDARD
END:VTIMEZONE
BEGIN:VEVENT
DTSTART;TZID=Europe/Stockholm:20260506T173000
DTEND;TZID=Europe/Stockholm:20260506T203000
DTSTAMP:20260425T155512
CREATED:20251207T184041Z
LAST-MODIFIED:20251207T184041Z
UID:13008-1778088600-1778099400@vss.nu
SUMMARY:Kvällssegling - Vindvännerna
DESCRIPTION:Segling \nLäs mer och anmäl dig >
URL:https://vss.nu/event/kvallssegling-vindvannerna-3/
LOCATION:Hundudden\, Hunduddsvägen 55\, Stockholm\, Sverige
CATEGORIES:Juniorkommittén
END:VEVENT
BEGIN:VEVENT
DTSTART;TZID=Europe/Stockholm:20260507T173000
DTEND;TZID=Europe/Stockholm:20260507T203000
DTSTAMP:20260425T155512
CREATED:20251207T190754Z
LAST-MODIFIED:20251207T190754Z
UID:13044-1778175000-1778185800@vss.nu
SUMMARY:Kvällssegling - Sjökaptenerna
DESCRIPTION:Segling \nLäs mer och anmäl dig >
URL:https://vss.nu/event/kvallssegling-sjokaptenerna-2/
LOCATION:Hundudden\, Hunduddsvägen 55\, Stockholm\, Sverige
CATEGORIES:Juniorkommittén
END:VEVENT
BEGIN:VEVENT
DTSTART;TZID=Europe/Stockholm:20260513T173000
DTEND;TZID=Europe/Stockholm:20260513T203000
DTSTAMP:20260425T155512
CREATED:20251207T184210Z
LAST-MODIFIED:20251207T184210Z
UID:13011-1778693400-1778704200@vss.nu
SUMMARY:Kvällssegling - Vindvännerna
DESCRIPTION:Segling \nLäs mer och anmäl dig >
URL:https://vss.nu/event/kvallssegling-vindvannerna-4/
LOCATION:Hundudden\, Hunduddsvägen 55\, Stockholm\, Sverige
CATEGORIES:Juniorkommittén
END:VEVENT
BEGIN:VEVENT
DTSTART;TZID=Europe/Stockholm:20260514T173000
DTEND;TZID=Europe/Stockholm:20260514T203000
DTSTAMP:20260425T155512
CREATED:20251207T190904Z
LAST-MODIFIED:20251207T190904Z
UID:13048-1778779800-1778790600@vss.nu
SUMMARY:Kvällssegling - Sjökaptenerna
DESCRIPTION:Segling \nLäs mer och anmäl dig >
URL:https://vss.nu/event/kvallssegling-sjokaptenerna-3/
LOCATION:Hundudden\, Hunduddsvägen 55\, Stockholm\, Sverige
CATEGORIES:Juniorkommittén
END:VEVENT
BEGIN:VEVENT
DTSTART;TZID=Europe/Stockholm:20260520T173000
DTEND;TZID=Europe/Stockholm:20260520T203000
DTSTAMP:20260425T155512
CREATED:20251207T184623Z
LAST-MODIFIED:20251207T184623Z
UID:13014-1779298200-1779309000@vss.nu
SUMMARY:Kvällssegling - Vindvännerna
DESCRIPTION:Segling \nLäs mer och anmäl dig >
URL:https://vss.nu/event/kvallssegling-vindvannerna-5/
LOCATION:Hundudden\, Hunduddsvägen 55\, Stockholm\, Sverige
CATEGORIES:Juniorkommittén
END:VEVENT
BEGIN:VEVENT
DTSTART;TZID=Europe/Stockholm:20260521T173000
DTEND;TZID=Europe/Stockholm:20260521T203000
DTSTAMP:20260425T155512
CREATED:20251207T191054Z
LAST-MODIFIED:20251207T191054Z
UID:13051-1779384600-1779395400@vss.nu
SUMMARY:Kvällssegling - Sjökaptenerna
DESCRIPTION:Segling \nLäs mer och anmäl dig >
URL:https://vss.nu/event/kvallssegling-sjokaptenerna-4/
LOCATION:Hundudden\, Hunduddsvägen 55\, Stockholm\, Sverige
CATEGORIES:Juniorkommittén
END:VEVENT
BEGIN:VEVENT
DTSTART;TZID=Europe/Stockholm:20260527T173000
DTEND;TZID=Europe/Stockholm:20260527T203000
DTSTAMP:20260425T155512
CREATED:20251207T184729Z
LAST-MODIFIED:20251207T184729Z
UID:13017-1779903000-1779913800@vss.nu
SUMMARY:Kvällssegling - Vindvännerna
DESCRIPTION:Segling \nLäs mer och anmäl dig >
URL:https://vss.nu/event/kvallssegling-vindvannerna-6/
LOCATION:Hundudden\, Hunduddsvägen 55\, Stockholm\, Sverige
CATEGORIES:Juniorkommittén
END:VEVENT
BEGIN:VEVENT
DTSTART;TZID=Europe/Stockholm:20260528T173000
DTEND;TZID=Europe/Stockholm:20260528T203000
DTSTAMP:20260425T155512
CREATED:20251207T191223Z
LAST-MODIFIED:20251207T191223Z
UID:13054-1779989400-1780000200@vss.nu
SUMMARY:Kvällssegling - Sjökaptenerna
DESCRIPTION:Segling \nLäs mer och anmäl dig >
URL:https://vss.nu/event/kvallssegling-sjokaptenerna-5/
LOCATION:Hundudden\, Hunduddsvägen 55\, Stockholm\, Sverige
CATEGORIES:Juniorkommittén
END:VEVENT
END:VCALENDAR