BEGIN:VCALENDAR
VERSION:2.0
PRODID:-//Vikingarnas Segel Sällskap - ECPv6.15.20//NONSGML v1.0//EN
CALSCALE:GREGORIAN
METHOD:PUBLISH
X-ORIGINAL-URL:https://vss.nu
X-WR-CALDESC:Händelser för Vikingarnas Segel Sällskap
REFRESH-INTERVAL;VALUE=DURATION:PT1H
X-Robots-Tag:noindex
X-PUBLISHED-TTL:PT1H
BEGIN:VTIMEZONE
TZID:Europe/Stockholm
BEGIN:DAYLIGHT
TZOFFSETFROM:+0100
TZOFFSETTO:+0200
TZNAME:CEST
DTSTART:20250330T010000
END:DAYLIGHT
BEGIN:STANDARD
TZOFFSETFROM:+0200
TZOFFSETTO:+0100
TZNAME:CET
DTSTART:20251026T010000
END:STANDARD
BEGIN:DAYLIGHT
TZOFFSETFROM:+0100
TZOFFSETTO:+0200
TZNAME:CEST
DTSTART:20260329T010000
END:DAYLIGHT
BEGIN:STANDARD
TZOFFSETFROM:+0200
TZOFFSETTO:+0100
TZNAME:CET
DTSTART:20261025T010000
END:STANDARD
BEGIN:DAYLIGHT
TZOFFSETFROM:+0100
TZOFFSETTO:+0200
TZNAME:CEST
DTSTART:20270328T010000
END:DAYLIGHT
BEGIN:STANDARD
TZOFFSETFROM:+0200
TZOFFSETTO:+0100
TZNAME:CET
DTSTART:20271031T010000
END:STANDARD
END:VTIMEZONE
BEGIN:VEVENT
DTSTART;TZID=Europe/Stockholm:20260423T190000
DTEND;TZID=Europe/Stockholm:20260423T203000
DTSTAMP:20260425T155639
CREATED:20260330T182110Z
LAST-MODIFIED:20260330T182110Z
UID:13584-1776970800-1776976200@vss.nu
SUMMARY:Föredrag meteorologi
DESCRIPTION:VSS har genom ett samarbete med Svenska Seglarförbundet fått en möjlighet att bjuda in väderstuderande Maura Dewey för att hålla ett föredrag om sjö och kappseglingsväder. Det bjuds på wraps och dricka. \nSe inbjudan > \nMaura har gjort en Youtube-variant av föredraget som du kan förbereda med: \nhttps://www.youtube.com/watch?v=n2NKEZuDA6Q&t=83s \nAnmälan senast 17 april till kontakt@vss.nu \nVälkommen\,\nUrban och Donald
URL:https://vss.nu/event/foredrag-meteorologi/
LOCATION:Klubbhuset\, Hunduddsvägen 55\, Stockholm\, Sverige
CATEGORIES:VSS
END:VEVENT
END:VCALENDAR