BEGIN:VCALENDAR
VERSION:2.0
PRODID:-//Vikingarnas Segel Sällskap - ECPv6.15.20//NONSGML v1.0//EN
CALSCALE:GREGORIAN
METHOD:PUBLISH
X-WR-CALNAME:Vikingarnas Segel Sällskap
X-ORIGINAL-URL:https://vss.nu
X-WR-CALDESC:Händelser för Vikingarnas Segel Sällskap
REFRESH-INTERVAL;VALUE=DURATION:PT1H
X-Robots-Tag:noindex
X-PUBLISHED-TTL:PT1H
BEGIN:VTIMEZONE
TZID:Europe/Stockholm
BEGIN:DAYLIGHT
TZOFFSETFROM:+0100
TZOFFSETTO:+0200
TZNAME:CEST
DTSTART:20240331T010000
END:DAYLIGHT
BEGIN:STANDARD
TZOFFSETFROM:+0200
TZOFFSETTO:+0100
TZNAME:CET
DTSTART:20241027T010000
END:STANDARD
BEGIN:DAYLIGHT
TZOFFSETFROM:+0100
TZOFFSETTO:+0200
TZNAME:CEST
DTSTART:20250330T010000
END:DAYLIGHT
BEGIN:STANDARD
TZOFFSETFROM:+0200
TZOFFSETTO:+0100
TZNAME:CET
DTSTART:20251026T010000
END:STANDARD
BEGIN:DAYLIGHT
TZOFFSETFROM:+0100
TZOFFSETTO:+0200
TZNAME:CEST
DTSTART:20260329T010000
END:DAYLIGHT
BEGIN:STANDARD
TZOFFSETFROM:+0200
TZOFFSETTO:+0100
TZNAME:CET
DTSTART:20261025T010000
END:STANDARD
END:VTIMEZONE
BEGIN:VEVENT
DTSTART;VALUE=DATE:20250810
DTEND;VALUE=DATE:20250817
DTSTAMP:20260426T051047
CREATED:20241128T200508Z
LAST-MODIFIED:20241128T200508Z
UID:11883-1754784000-1755388799@vss.nu
SUMMARY:Seglarläger 3
DESCRIPTION:Seglarläger på Ekholmen för barn/ungdomar vuxna i åldrarna 10-15 år. \nLäs mer och anmäl dig >
URL:https://vss.nu/event/seglarlager-3/
LOCATION:Ekholmen\, Storsaxaren\, Vaxholm\, Sverige
CATEGORIES:Ekholmen,Juniorkommittén
END:VEVENT
BEGIN:VEVENT
DTSTART;TZID=Europe/Stockholm:20250821T173000
DTEND;TZID=Europe/Stockholm:20250821T203000
DTSTAMP:20260426T051047
CREATED:20241128T202729Z
LAST-MODIFIED:20241128T202729Z
UID:11907-1755797400-1755808200@vss.nu
SUMMARY:Kvällssegling
DESCRIPTION:Kvällssegling för juniorer\, säsongsstart. \nLäs mer >
URL:https://vss.nu/event/kvallssegling-19/
LOCATION:Hundudden\, Hunduddsvägen 55\, Stockholm\, Sverige
CATEGORIES:Juniorkommittén
END:VEVENT
BEGIN:VEVENT
DTSTART;TZID=Europe/Stockholm:20250823T130000
DTEND;TZID=Europe/Stockholm:20250823T150000
DTSTAMP:20260426T051047
CREATED:20250310T184908Z
LAST-MODIFIED:20250310T184908Z
UID:12156-1755954000-1755961200@vss.nu
SUMMARY:DSVs paketsegling
DESCRIPTION:Skepparmöte kl. 13.00. \nHär gäller det inte att komma först… utan tvåa\, i mitten eller näst sist! Seglingen kräver mycket taktik av de startande\, först att starta på rätt tid mellan Ekholmens flaggstång och flaggstång på Lilla Saxaren\, lite oklart vilken. Segla runt Ekholmen\, mellan Stor-Saxaren och Jansons Frestelse utan att få bottenkänning\, vidare mot röda lysbojen som ska rundas och tillbaka in i sundet mellan Stor-Saxaren och Ekholmen utan att fastna i bleke… Målgång där starten gick. Om det är varmt får man dessutom se upp för vattenkrig… \nFörst i mål får äran\, tvåan får punschen och ett chickt punsch-set och räkna placeringen nr 1 i varpatävlingen\, kommer du i mitten får du paddeln som får användas under nästa års Paketsegling\, och skulle du hamna näst sist blir det lilla punschen. \nStartavgiften är förstås ett paket till värdig motståndare!
URL:https://vss.nu/event/dsvs-paketsegling/
CATEGORIES:DSV,Ekholmen
END:VEVENT
BEGIN:VEVENT
DTSTART;TZID=Europe/Stockholm:20250823T180000
DTEND;TZID=Europe/Stockholm:20250823T235900
DTSTAMP:20260426T051047
CREATED:20250310T184707Z
LAST-MODIFIED:20250310T185157Z
UID:12153-1755972000-1755993540@vss.nu
SUMMARY:Kräftskiva på Ekholmen
DESCRIPTION:Klubbkommittén bjuder på mingelbål på terrassen\, ta med egna kräftor/dryck (eller det du vill äta).
URL:https://vss.nu/event/kraftskiva-pa-ekholmen/
LOCATION:Ekholmen\, Storsaxaren\, Vaxholm\, Sverige
CATEGORIES:Ekholmen,Klubbkommittén
END:VEVENT
BEGIN:VEVENT
DTSTART;TZID=Europe/Stockholm:20250824T100000
DTEND;TZID=Europe/Stockholm:20250824T120000
DTSTAMP:20260426T051047
CREATED:20250310T185030Z
LAST-MODIFIED:20250310T185328Z
UID:12159-1756029600-1756036800@vss.nu
SUMMARY:DSVs Varpamästerskap
DESCRIPTION:Traditionellt Varpamästerskap på ängen.\nVM\, varpamästerskap… Naturstenar används\, man kastar sin sten mellan två pinnar. Herr-\, dam- och barn-klass och kombinationstävling segling/varpa där resultatet från gårdagens paketsegling räknas\, 2:an = 1 poäng\, 1:an = 2 poäng\, sedan är det ”normalt”\, 3:an 3 poäng\, 4:an 4 poäng osv. Tävlande från båten i kombinationstävlingen anges vid anmälan till Paketseglingen. Kast längre än 2 meter från pinnen räknas inte\, efter tre kast på mer än 2 meter från pinnen åker man ut. \nSedan blir det utslagstävling\, och där kan man klara sig långt utan att vara inom 2 meters-gränsen. Här gäller det att komma näst sist för att vinna! \nTävlingen är öppen för alla på Ekholmen\, men för dig som är medlem i VSS önskar vi förstås att du också blir medlem i DSV. Årsavgiften för 2025 är bara 100 kr\, kan betalas på plats\, eller till vårt bankgiro 5216-1486. \nPrisutdelning sker på DSVs Höstmöte 15 november\, då det bjuds på sillunch!
URL:https://vss.nu/event/dsvs-varpamasterskap/
CATEGORIES:DSV,Ekholmen
END:VEVENT
BEGIN:VEVENT
DTSTART;VALUE=DATE:20250828
DTEND;VALUE=DATE:20250829
DTSTAMP:20260426T051047
CREATED:20250310T185455Z
LAST-MODIFIED:20250818T175108Z
UID:12166-1756339200-1756425599@vss.nu
SUMMARY:Sista manusdag Seglar-Vikingen nr 3
DESCRIPTION:
URL:https://vss.nu/event/sista-manusdag-seglar-vikingen-nr-3-2/
CATEGORIES:Seglar-Vikingen
END:VEVENT
BEGIN:VEVENT
DTSTART;TZID=Europe/Stockholm:20250828T173000
DTEND;TZID=Europe/Stockholm:20250828T203000
DTSTAMP:20260426T051047
CREATED:20241128T204159Z
LAST-MODIFIED:20241128T204159Z
UID:11926-1756402200-1756413000@vss.nu
SUMMARY:Kvällssegling
DESCRIPTION:Kvällssegling för juniorer. \nLäs mer >
URL:https://vss.nu/event/kvallssegling-25/
LOCATION:Hundudden\, Hunduddsvägen 55\, Stockholm\, Sverige
CATEGORIES:Juniorkommittén
END:VEVENT
BEGIN:VEVENT
DTSTART;VALUE=DATE:20250830
DTEND;VALUE=DATE:20250831
DTSTAMP:20260426T051047
CREATED:20250825T160757Z
LAST-MODIFIED:20250825T160855Z
UID:12658-1756512000-1756598399@vss.nu
SUMMARY:Träningsdag inför Liros Lilla Värtanregattan 2025
DESCRIPTION:Träningsdag inför söndagens kappsegling med deltagare och tränare från VSS och andra klubbar i Stockholmsområdet.
URL:https://vss.nu/event/traningsdag-infor-liros-lilla-vartanregattan-2025/
LOCATION:Hundudden\, Hunduddsvägen 55\, Stockholm\, Sverige
CATEGORIES:Juniorkommittén,Kappseglingskommittén
END:VEVENT
BEGIN:VEVENT
DTSTART;VALUE=DATE:20250831
DTEND;VALUE=DATE:20250901
DTSTAMP:20260426T051047
CREATED:20250825T160709Z
LAST-MODIFIED:20250825T161004Z
UID:12655-1756598400-1756684799@vss.nu
SUMMARY:Liros Lilla Värtanregattan 2025
DESCRIPTION:Kappsegling för våra ungdomar och andra i Stockholmsområdet
URL:https://vss.nu/event/liros-lilla-vartanregattan-2025/
LOCATION:Hundudden\, Hunduddsvägen 55\, Stockholm\, Sverige
CATEGORIES:Juniorkommittén,Kappseglingskommittén
END:VEVENT
BEGIN:VEVENT
DTSTART;TZID=Europe/Stockholm:20250904T173000
DTEND;TZID=Europe/Stockholm:20250904T203000
DTSTAMP:20260426T051047
CREATED:20241128T203008Z
LAST-MODIFIED:20241128T203008Z
UID:11913-1757007000-1757017800@vss.nu
SUMMARY:Kvällssegling
DESCRIPTION:Kvällssegling för juniorer. \nLäs mer >
URL:https://vss.nu/event/kvallssegling-21/
LOCATION:Hundudden\, Hunduddsvägen 55\, Stockholm\, Sverige
CATEGORIES:Juniorkommittén
END:VEVENT
BEGIN:VEVENT
DTSTART;TZID=Europe/Stockholm:20250904T190000
DTEND;TZID=Europe/Stockholm:20250904T203000
DTSTAMP:20260426T051047
CREATED:20250310T185650Z
LAST-MODIFIED:20250310T185650Z
UID:12169-1757012400-1757017800@vss.nu
SUMMARY:Informationsmöte för nya medlemmar
DESCRIPTION:Separat inbjudan skickas ut till dig som är nya medlem i VSS.
URL:https://vss.nu/event/informationsmote-for-nya-medlemmar-7/
LOCATION:Klubbhuset\, Hunduddsvägen 55\, Stockholm\, Sverige
CATEGORIES:VSS
END:VEVENT
BEGIN:VEVENT
DTSTART;VALUE=DATE:20250906
DTEND;VALUE=DATE:20250908
DTSTAMP:20260426T051047
CREATED:20250310T185804Z
LAST-MODIFIED:20250828T214011Z
UID:12172-1757116800-1757289599@vss.nu
SUMMARY:Arbetshelg på Ekholmen
DESCRIPTION:Hej Viking! \nVälkommen till Ekholmens arbetshelg 6 – 7 september. \nLördag  \n09.00 samling vid klubbhuset fördelning arbetsuppgifter.\nDen egna lunchtiden bestäms utifrån tycke\, smak\, arbete och hunger.\nKlubben bjuder på kaffe på eftermiddagen.  \nSöndag  \n09.00 samling vid klubbhuset fördelning arbetsuppgifter.  \nIngen anmälan\, men OBS. Planerar du att komma sent på lör eller sön kan vi inte alltid garantera att du kan göra alla timmar av din arbetsplikt.\n \nMed vänliga hälsningar:  \nGöran Ek\, Förvaltare Ekholmen 
URL:https://vss.nu/event/arbetshelg-pa-ekholmen-5/
LOCATION:Ekholmen\, Storsaxaren\, Vaxholm\, Sverige
CATEGORIES:Arbetstillfälle,Ekholmen
END:VEVENT
BEGIN:VEVENT
DTSTART;VALUE=DATE:20250908
DTEND;VALUE=DATE:20250909
DTSTAMP:20260426T051047
CREATED:20250310T190148Z
LAST-MODIFIED:20250310T190148Z
UID:12176-1757289600-1757375999@vss.nu
SUMMARY:Sista dag för motioner till höstmötet
DESCRIPTION:
URL:https://vss.nu/event/sista-dag-for-motioner-till-hostmotet/
CATEGORIES:VSS
END:VEVENT
BEGIN:VEVENT
DTSTART;TZID=Europe/Stockholm:20250909T180000
DTEND;TZID=Europe/Stockholm:20250909T203000
DTSTAMP:20260426T051047
CREATED:20250310T190300Z
LAST-MODIFIED:20250310T190300Z
UID:12179-1757440800-1757449800@vss.nu
SUMMARY:Städkväll på varvet.
DESCRIPTION:Samling kl. 18.00\, ingen anmälan.
URL:https://vss.nu/event/stadkvall-pa-varvet-7/
LOCATION:Hundudden\, Hunduddsvägen 55\, Stockholm\, Sverige
CATEGORIES:Arbetstillfälle
END:VEVENT
BEGIN:VEVENT
DTSTART;TZID=Europe/Stockholm:20250911T173000
DTEND;TZID=Europe/Stockholm:20250911T203000
DTSTAMP:20260426T051047
CREATED:20241128T203121Z
LAST-MODIFIED:20241128T203155Z
UID:11916-1757611800-1757622600@vss.nu
SUMMARY:Kvällssegling
DESCRIPTION:Kvällssegling för juniorer. \nLäs mer >
URL:https://vss.nu/event/kvallssegling-22/
LOCATION:Hundudden\, Hunduddsvägen 55\, Stockholm\, Sverige
CATEGORIES:Juniorkommittén
END:VEVENT
BEGIN:VEVENT
DTSTART;TZID=Europe/Stockholm:20250918T173000
DTEND;TZID=Europe/Stockholm:20250918T203000
DTSTAMP:20260426T051047
CREATED:20241128T203718Z
LAST-MODIFIED:20241128T203718Z
UID:11920-1758216600-1758227400@vss.nu
SUMMARY:Kvällssegling
DESCRIPTION:Kvällssegling för juniorer. \nLäs mer >
URL:https://vss.nu/event/kvallssegling-23/
LOCATION:Hundudden\, Hunduddsvägen 55\, Stockholm\, Sverige
CATEGORIES:Juniorkommittén
END:VEVENT
BEGIN:VEVENT
DTSTART;TZID=Europe/Stockholm:20250920T074500
DTEND;TZID=Europe/Stockholm:20250920T170000
DTSTAMP:20260426T051047
CREATED:20250310T190458Z
LAST-MODIFIED:20250310T190458Z
UID:12182-1758354300-1758387600@vss.nu
SUMMARY:Upptagningarna startar
DESCRIPTION:Morgonpasset börjar 07.45 och eftermiddagspasset startar kl 12.30. Alla hjälps åt tills hamnförman blåser av passet.
URL:https://vss.nu/event/upptagningarna-startar-3/
LOCATION:Hundudden\, Hunduddsvägen 55\, Stockholm\, Sverige
CATEGORIES:VSS
END:VEVENT
BEGIN:VEVENT
DTSTART;TZID=Europe/Stockholm:20250921T074500
DTEND;TZID=Europe/Stockholm:20250921T170000
DTSTAMP:20260426T051047
CREATED:20250310T190637Z
LAST-MODIFIED:20250310T190637Z
UID:12185-1758440700-1758474000@vss.nu
SUMMARY:Upptagning
DESCRIPTION:Morgonpasset börjar 07.45 och eftermiddagspasset startar kl 12.30. Alla hjälps åt tills hamnförman blåser av passet.
URL:https://vss.nu/event/upptagning-19/
LOCATION:Hundudden\, Hunduddsvägen 55\, Stockholm\, Sverige
CATEGORIES:VSS
END:VEVENT
BEGIN:VEVENT
DTSTART;TZID=Europe/Stockholm:20250925T173000
DTEND;TZID=Europe/Stockholm:20250925T203000
DTSTAMP:20260426T051047
CREATED:20241128T204029Z
LAST-MODIFIED:20241128T204029Z
UID:11923-1758821400-1758832200@vss.nu
SUMMARY:Kvällssegling
DESCRIPTION:Säsongsavslutning för juniorernas kvällsseglingar med båtvård.
URL:https://vss.nu/event/kvallssegling-24/
LOCATION:Hundudden\, Hunduddsvägen 55\, Stockholm\, Sverige
CATEGORIES:Juniorkommittén
END:VEVENT
BEGIN:VEVENT
DTSTART;VALUE=DATE:20250927
DTEND;VALUE=DATE:20250929
DTSTAMP:20260426T051047
CREATED:20250310T191701Z
LAST-MODIFIED:20250918T175025Z
UID:12212-1758931200-1759103999@vss.nu
SUMMARY:Stängningshelg på Ekholmen
DESCRIPTION:Välkommen till stängningshelg på Ekholmen 27-28 september 2025\nVi startar på lördagen kl.09.00 med samling i klubbhuset för att iordningställa Ekholmen inför vintern. Detta är ett utmärkt tillfälle att träffa gamla och nya vänner och arbeta tillsammans. \nDagen avslutas med samling och gemensam middag i klubbhuset kl.18.00. Klubben bjuder alla som deltar på mat och dryck. \nSöndagen startar även den kl 09.00 med samling i klubbhuset. \nArbetet räknas självklart av mot din arbetsplikt. Ifall ni anländer först på söndagen kan vi inte garantera att ni har möjlighet att jobba av er arbetsplikt. \nAlla medlemmar är välkomna att delta. Vi ser fram emot att träffa er alla och uppleva den traditionella gemenskapen som Vikingarnas Segelsällskap är känt för. \nOSA senast tisdag den 23 september\, meddela hur många vuxna och hur många barn ni blir. Svaret mailas till: goranek52@gmail.com. \nMed vänliga hälsningar \nGöran Ek \nFörvaltare Ekholmen
URL:https://vss.nu/event/stangningshelg-pa-ekholmen-2/
LOCATION:Ekholmen\, Storsaxaren\, Vaxholm\, Sverige
CATEGORIES:Arbetstillfälle,Ekholmen
END:VEVENT
BEGIN:VEVENT
DTSTART;TZID=Europe/Stockholm:20250927T074500
DTEND;TZID=Europe/Stockholm:20250927T170000
DTSTAMP:20260426T051047
CREATED:20250310T190732Z
LAST-MODIFIED:20250310T190732Z
UID:12188-1758959100-1758992400@vss.nu
SUMMARY:Upptagning
DESCRIPTION:Morgonpasset börjar 07.45 och eftermiddagspasset startar kl 12.30. Alla hjälps åt tills hamnförman blåser av passet.
URL:https://vss.nu/event/upptagning-20/
LOCATION:Hundudden\, Hunduddsvägen 55\, Stockholm\, Sverige
CATEGORIES:VSS
END:VEVENT
BEGIN:VEVENT
DTSTART;TZID=Europe/Stockholm:20250928T074500
DTEND;TZID=Europe/Stockholm:20250928T170000
DTSTAMP:20260426T051047
CREATED:20250310T190825Z
LAST-MODIFIED:20250310T190928Z
UID:12190-1759045500-1759078800@vss.nu
SUMMARY:Upptagning
DESCRIPTION:Morgonpasset börjar 07.45 och eftermiddagspasset startar kl 12.30. Alla hjälps åt tills hamnförman blåser av passet.
URL:https://vss.nu/event/upptagning-21/
LOCATION:Hundudden\, Hunduddsvägen 55\, Stockholm\, Sverige
CATEGORIES:VSS
END:VEVENT
BEGIN:VEVENT
DTSTART;TZID=Europe/Stockholm:20251004T074500
DTEND;TZID=Europe/Stockholm:20251004T170000
DTSTAMP:20260426T051047
CREATED:20250310T191121Z
LAST-MODIFIED:20250310T191121Z
UID:12194-1759563900-1759597200@vss.nu
SUMMARY:Upptagning
DESCRIPTION:Morgonpasset börjar 07.45 och eftermiddagspasset startar kl 12.30. Alla hjälps åt tills hamnförman blåser av passet.
URL:https://vss.nu/event/upptagning-22/
LOCATION:Hundudden\, Hunduddsvägen 55\, Stockholm\, Sverige
CATEGORIES:VSS
END:VEVENT
BEGIN:VEVENT
DTSTART;TZID=Europe/Stockholm:20251005T074500
DTEND;TZID=Europe/Stockholm:20251005T170000
DTSTAMP:20260426T051047
CREATED:20250310T191202Z
LAST-MODIFIED:20250310T191202Z
UID:12197-1759650300-1759683600@vss.nu
SUMMARY:Upptagning
DESCRIPTION:Morgonpasset börjar 07.45 och eftermiddagspasset startar kl 12.30. Alla hjälps åt tills hamnförman blåser av passet.
URL:https://vss.nu/event/upptagning-23/
LOCATION:Hundudden\, Hunduddsvägen 55\, Stockholm\, Sverige
CATEGORIES:VSS
END:VEVENT
BEGIN:VEVENT
DTSTART;TZID=Europe/Stockholm:20251011T074500
DTEND;TZID=Europe/Stockholm:20251011T170000
DTSTAMP:20260426T051047
CREATED:20250310T191252Z
LAST-MODIFIED:20250310T191252Z
UID:12200-1760168700-1760202000@vss.nu
SUMMARY:Upptagning
DESCRIPTION:Morgonpasset börjar 07.45 och eftermiddagspasset startar kl 12.30. Alla hjälps åt tills hamnförman blåser av passet.
URL:https://vss.nu/event/upptagning-24/
LOCATION:Hundudden\, Hunduddsvägen 55\, Stockholm\, Sverige
CATEGORIES:VSS
END:VEVENT
BEGIN:VEVENT
DTSTART;TZID=Europe/Stockholm:20251012T080000
DTEND;TZID=Europe/Stockholm:20251012T170000
DTSTAMP:20260426T051047
CREATED:20250310T191330Z
LAST-MODIFIED:20250310T191330Z
UID:12203-1760256000-1760288400@vss.nu
SUMMARY:Upptagning
DESCRIPTION:Morgonpasset börjar 07.45 och eftermiddagspasset startar kl 12.30. Alla hjälps åt tills hamnförman blåser av passet.
URL:https://vss.nu/event/upptagning-25/
LOCATION:Hundudden\, Hunduddsvägen 55\, Stockholm\, Sverige
CATEGORIES:VSS
END:VEVENT
BEGIN:VEVENT
DTSTART;TZID=Europe/Stockholm:20251018T074500
DTEND;TZID=Europe/Stockholm:20251018T170000
DTSTAMP:20260426T051047
CREATED:20250310T191423Z
LAST-MODIFIED:20250310T191423Z
UID:12206-1760773500-1760806800@vss.nu
SUMMARY:Upptagning
DESCRIPTION:Morgonpasset börjar 07.45 och eftermiddagspasset startar kl 12.30. Alla hjälps åt tills hamnförman blåser av passet.
URL:https://vss.nu/event/upptagning-26/
LOCATION:Hundudden\, Hunduddsvägen 55\, Stockholm\, Sverige
CATEGORIES:VSS
END:VEVENT
BEGIN:VEVENT
DTSTART;TZID=Europe/Stockholm:20251019T074500
DTEND;TZID=Europe/Stockholm:20251019T170000
DTSTAMP:20260426T051047
CREATED:20250310T191537Z
LAST-MODIFIED:20250310T191537Z
UID:12209-1760859900-1760893200@vss.nu
SUMMARY:Sista ordinarie upptagning
DESCRIPTION:Morgonpasset börjar 07.45 och eftermiddagspasset startar kl 12.30. Alla hjälps åt tills hamnförman blåser av passet.
URL:https://vss.nu/event/sista-ordinarie-upptagning/
LOCATION:Hundudden\, Hunduddsvägen 55\, Stockholm\, Sverige
CATEGORIES:VSS
END:VEVENT
BEGIN:VEVENT
DTSTART;TZID=Europe/Stockholm:20251019T100000
DTEND;TZID=Europe/Stockholm:20251019T150000
DTSTAMP:20260426T051047
CREATED:20250310T191913Z
LAST-MODIFIED:20250310T191913Z
UID:12215-1760868000-1760886000@vss.nu
SUMMARY:Städdag på varvet
DESCRIPTION:Samling kl. 10.00\, ingen anmälan.
URL:https://vss.nu/event/staddag-pa-varvet-3/
LOCATION:Hundudden\, Hunduddsvägen 55\, Stockholm\, Sverige
CATEGORIES:Arbetstillfälle
END:VEVENT
BEGIN:VEVENT
DTSTART;TZID=Europe/Stockholm:20251023T190000
DTEND;TZID=Europe/Stockholm:20251023T203000
DTSTAMP:20260426T051047
CREATED:20250310T192058Z
LAST-MODIFIED:20251002T180509Z
UID:12218-1761246000-1761251400@vss.nu
SUMMARY:DSVs födelsedagskaffe & föredrag
DESCRIPTION:Välkommen på föredrag om Skärgårdsstiftelsens projekt ”Skydd i grunda vikar” och fika!\nCecilia Wibjörn\, Vattenförvaltare på ­Skärgårgårdsstiftelsen\, är inbjuden och berättar och visar bilder om projektet ”Skydd i grunda vikar” där de b.la. har placerat ut angöringsbojar för båtlivet för att minska negativ påverkan på grunda vegetationsklädda bottnar. \nHjärtligt välkommen att fira DSVs 105 år med oss i Klubbhuset\, alla Vikingar och gäster är välkomna\,\nvi bjuder på fika\, ingen anmälan. \nDSVs styrelse
URL:https://vss.nu/event/dsvs-fodelsedagskaffe-3/
LOCATION:Klubbhuset\, Hunduddsvägen 55\, Stockholm\, Sverige
CATEGORIES:DSV
END:VEVENT
END:VCALENDAR