BEGIN:VCALENDAR
VERSION:2.0
PRODID:-//Vikingarnas Segel Sällskap - ECPv6.15.20//NONSGML v1.0//EN
CALSCALE:GREGORIAN
METHOD:PUBLISH
X-WR-CALNAME:Vikingarnas Segel Sällskap
X-ORIGINAL-URL:https://vss.nu
X-WR-CALDESC:Händelser för Vikingarnas Segel Sällskap
REFRESH-INTERVAL;VALUE=DURATION:PT1H
X-Robots-Tag:noindex
X-PUBLISHED-TTL:PT1H
BEGIN:VTIMEZONE
TZID:Europe/Stockholm
BEGIN:DAYLIGHT
TZOFFSETFROM:+0100
TZOFFSETTO:+0200
TZNAME:CEST
DTSTART:20250330T010000
END:DAYLIGHT
BEGIN:STANDARD
TZOFFSETFROM:+0200
TZOFFSETTO:+0100
TZNAME:CET
DTSTART:20251026T010000
END:STANDARD
BEGIN:DAYLIGHT
TZOFFSETFROM:+0100
TZOFFSETTO:+0200
TZNAME:CEST
DTSTART:20260329T010000
END:DAYLIGHT
BEGIN:STANDARD
TZOFFSETFROM:+0200
TZOFFSETTO:+0100
TZNAME:CET
DTSTART:20261025T010000
END:STANDARD
BEGIN:DAYLIGHT
TZOFFSETFROM:+0100
TZOFFSETTO:+0200
TZNAME:CEST
DTSTART:20270328T010000
END:DAYLIGHT
BEGIN:STANDARD
TZOFFSETFROM:+0200
TZOFFSETTO:+0100
TZNAME:CET
DTSTART:20271031T010000
END:STANDARD
END:VTIMEZONE
BEGIN:VEVENT
DTSTART;VALUE=DATE:20260328
DTEND;VALUE=DATE:20260419
DTSTAMP:20260425T171826
CREATED:20260202T191530Z
LAST-MODIFIED:20260315T175013Z
UID:13291-1774656000-1776556799@vss.nu
SUMMARY:Nattvaktsbokning 2026
DESCRIPTION:2026 års nattvaktsbokning öppnar lördagen den 28 mars kl 07.00 och är öppen t.o.m. 18 april kl 00.00.\nBoka i BAS-registret >
URL:https://vss.nu/event/nattvaktsbokning-2026/
CATEGORIES:VSS
END:VEVENT
BEGIN:VEVENT
DTSTART;VALUE=DATE:20260413
DTEND;VALUE=DATE:20260414
DTSTAMP:20260425T171826
CREATED:20260304T182707Z
LAST-MODIFIED:20260304T182707Z
UID:13351-1776038400-1776124799@vss.nu
SUMMARY:Sista dagen för motioner till Vårmötet
DESCRIPTION:
URL:https://vss.nu/event/sista-dagen-for-motioner-till-varmotet-2/
CATEGORIES:VSS
END:VEVENT
BEGIN:VEVENT
DTSTART;VALUE=DATE:20260413
DTEND;VALUE=DATE:20260414
DTSTAMP:20260425T171826
CREATED:20260314T210030Z
LAST-MODIFIED:20260314T210030Z
UID:13460-1776038400-1776124799@vss.nu
SUMMARY:Sista manusdag Seglar-Vikingen nr 2
DESCRIPTION:
URL:https://vss.nu/event/sista-manusdag-seglar-vikingen-nr-2-2/
CATEGORIES:Seglar-Vikingen
END:VEVENT
BEGIN:VEVENT
DTSTART;VALUE=DATE:20260418
DTEND;VALUE=DATE:20260419
DTSTAMP:20260425T171826
CREATED:20260304T182903Z
LAST-MODIFIED:20260304T182903Z
UID:13354-1776470400-1776556799@vss.nu
SUMMARY:Frivillig sjösättning
DESCRIPTION:
URL:https://vss.nu/event/frivillig-sjosattning-3/
LOCATION:Hundudden\, Hunduddsvägen 55\, Stockholm\, Sverige
CATEGORIES:VSS
END:VEVENT
BEGIN:VEVENT
DTSTART;TZID=Europe/Stockholm:20260422T173000
DTEND;TZID=Europe/Stockholm:20260422T203000
DTSTAMP:20260425T171826
CREATED:20251128T203020Z
LAST-MODIFIED:20251128T203020Z
UID:12957-1776879000-1776889800@vss.nu
SUMMARY:Kvällssegling - Vindvännerna
DESCRIPTION:Uppstart med båtvård. \nLäs mer och anmäl dig >
URL:https://vss.nu/event/kvallssegling-vindvannerna/
LOCATION:Hundudden\, Hunduddsvägen 55\, Stockholm\, Sverige
CATEGORIES:Juniorkommittén
END:VEVENT
BEGIN:VEVENT
DTSTART;TZID=Europe/Stockholm:20260423T173000
DTEND;TZID=Europe/Stockholm:20260423T203000
DTSTAMP:20260425T171827
CREATED:20251128T203200Z
LAST-MODIFIED:20251128T203200Z
UID:12960-1776965400-1776976200@vss.nu
SUMMARY:Kvällssegling - Sjökaptenerna
DESCRIPTION:Uppstart med båtvård. \nLäs mer och anmäl dig >
URL:https://vss.nu/event/kvallssegling-sjokaptenerna/
CATEGORIES:Juniorkommittén
END:VEVENT
BEGIN:VEVENT
DTSTART;TZID=Europe/Stockholm:20260423T190000
DTEND;TZID=Europe/Stockholm:20260423T203000
DTSTAMP:20260425T171827
CREATED:20260330T182110Z
LAST-MODIFIED:20260330T182110Z
UID:13584-1776970800-1776976200@vss.nu
SUMMARY:Föredrag meteorologi
DESCRIPTION:VSS har genom ett samarbete med Svenska Seglarförbundet fått en möjlighet att bjuda in väderstuderande Maura Dewey för att hålla ett föredrag om sjö och kappseglingsväder. Det bjuds på wraps och dricka. \nSe inbjudan > \nMaura har gjort en Youtube-variant av föredraget som du kan förbereda med: \nhttps://www.youtube.com/watch?v=n2NKEZuDA6Q&t=83s \nAnmälan senast 17 april till kontakt@vss.nu \nVälkommen\,\nUrban och Donald
URL:https://vss.nu/event/foredrag-meteorologi/
LOCATION:Klubbhuset\, Hunduddsvägen 55\, Stockholm\, Sverige
CATEGORIES:VSS
END:VEVENT
BEGIN:VEVENT
DTSTART;TZID=Europe/Stockholm:20260425T074500
DTEND;TZID=Europe/Stockholm:20260425T170000
DTSTAMP:20260425T171827
CREATED:20260304T183529Z
LAST-MODIFIED:20260304T183529Z
UID:13357-1777103100-1777136400@vss.nu
SUMMARY:Sjösättning
DESCRIPTION:Första ordinarie sjösättningen.\nMorgonpasset börjar 07.45 och eftermiddagspasset startar kl 13.00. Alla hjälps åt tills hamnförman blåser av passet.
URL:https://vss.nu/event/sjosattning-17/
LOCATION:Hundudden\, Hunduddsvägen 55\, Stockholm\, Sverige
CATEGORIES:VSS
END:VEVENT
BEGIN:VEVENT
DTSTART;TZID=Europe/Stockholm:20260426T074500
DTEND;TZID=Europe/Stockholm:20260426T170000
DTSTAMP:20260425T171827
CREATED:20260304T183608Z
LAST-MODIFIED:20260304T183608Z
UID:13360-1777189500-1777222800@vss.nu
SUMMARY:Sjösättning
DESCRIPTION:Morgonpasset börjar 07.45 och eftermiddagspasset startar kl 13.00. Alla hjälps åt tills hamnförman blåser av passet.
URL:https://vss.nu/event/sjosattning-18/
LOCATION:Hundudden\, Hunduddsvägen 55\, Stockholm\, Sverige
CATEGORIES:VSS
END:VEVENT
BEGIN:VEVENT
DTSTART;TZID=Europe/Stockholm:20260429T173000
DTEND;TZID=Europe/Stockholm:20260429T203000
DTSTAMP:20260425T171827
CREATED:20251207T183822Z
LAST-MODIFIED:20251207T183822Z
UID:13005-1777483800-1777494600@vss.nu
SUMMARY:Kvällssegling - Vindvännerna
DESCRIPTION:Segling \nLäs mer och anmäl dig >
URL:https://vss.nu/event/kvallssegling-vindvannerna-2/
LOCATION:Hundudden\, Hunduddsvägen 55\, Stockholm\, Sverige
CATEGORIES:Juniorkommittén
END:VEVENT
BEGIN:VEVENT
DTSTART;TZID=Europe/Stockholm:20260502T074500
DTEND;TZID=Europe/Stockholm:20260502T170000
DTSTAMP:20260425T171827
CREATED:20260304T183703Z
LAST-MODIFIED:20260304T183703Z
UID:13363-1777707900-1777741200@vss.nu
SUMMARY:Sjösättning
DESCRIPTION:Morgonpasset börjar 07.45 och eftermiddagspasset startar kl 13.00. Alla hjälps åt tills hamnförman blåser av passet.
URL:https://vss.nu/event/sjosattning-19/
CATEGORIES:VSS
END:VEVENT
BEGIN:VEVENT
DTSTART;TZID=Europe/Stockholm:20260503T074500
DTEND;TZID=Europe/Stockholm:20260503T170000
DTSTAMP:20260425T171827
CREATED:20260304T183738Z
LAST-MODIFIED:20260304T183738Z
UID:13366-1777794300-1777827600@vss.nu
SUMMARY:Sjösättning
DESCRIPTION:Morgonpasset börjar 07.45 och eftermiddagspasset startar kl 13.00. Alla hjälps åt tills hamnförman blåser av passet.
URL:https://vss.nu/event/sjosattning-20/
LOCATION:Hundudden\, Hunduddsvägen 55\, Stockholm\, Sverige
CATEGORIES:VSS
END:VEVENT
BEGIN:VEVENT
DTSTART;TZID=Europe/Stockholm:20260505T180000
DTEND;TZID=Europe/Stockholm:20260505T203000
DTSTAMP:20260425T171827
CREATED:20260304T185601Z
LAST-MODIFIED:20260304T185601Z
UID:13411-1778004000-1778013000@vss.nu
SUMMARY:Städkväll på varvet
DESCRIPTION:Städkväll på varvet. Samling kl. 18.00.
URL:https://vss.nu/event/stadkvall-pa-varvet/
CATEGORIES:Arbetstillfälle
END:VEVENT
BEGIN:VEVENT
DTSTART;TZID=Europe/Stockholm:20260505T180000
DTEND;TZID=Europe/Stockholm:20260505T203000
DTSTAMP:20260425T171827
CREATED:20260312T185627Z
LAST-MODIFIED:20260312T185627Z
UID:13420-1778004000-1778013000@vss.nu
SUMMARY:Städkväll på varvet
DESCRIPTION:Samling kl. 18.00\, ingen anmälan
URL:https://vss.nu/event/stadkvall-pa-varvet-3/
LOCATION:Hundudden\, Hunduddsvägen 55\, Stockholm\, Sverige
CATEGORIES:Arbetstillfälle
END:VEVENT
BEGIN:VEVENT
DTSTART;TZID=Europe/Stockholm:20260506T173000
DTEND;TZID=Europe/Stockholm:20260506T203000
DTSTAMP:20260425T171827
CREATED:20251207T184041Z
LAST-MODIFIED:20251207T184041Z
UID:13008-1778088600-1778099400@vss.nu
SUMMARY:Kvällssegling - Vindvännerna
DESCRIPTION:Segling \nLäs mer och anmäl dig >
URL:https://vss.nu/event/kvallssegling-vindvannerna-3/
LOCATION:Hundudden\, Hunduddsvägen 55\, Stockholm\, Sverige
CATEGORIES:Juniorkommittén
END:VEVENT
BEGIN:VEVENT
DTSTART;TZID=Europe/Stockholm:20260507T173000
DTEND;TZID=Europe/Stockholm:20260507T203000
DTSTAMP:20260425T171827
CREATED:20251207T190754Z
LAST-MODIFIED:20251207T190754Z
UID:13044-1778175000-1778185800@vss.nu
SUMMARY:Kvällssegling - Sjökaptenerna
DESCRIPTION:Segling \nLäs mer och anmäl dig >
URL:https://vss.nu/event/kvallssegling-sjokaptenerna-2/
LOCATION:Hundudden\, Hunduddsvägen 55\, Stockholm\, Sverige
CATEGORIES:Juniorkommittén
END:VEVENT
BEGIN:VEVENT
DTSTART;VALUE=DATE:20260509
DTEND;VALUE=DATE:20260511
DTSTAMP:20260425T171827
CREATED:20260312T185748Z
LAST-MODIFIED:20260312T185748Z
UID:13423-1778284800-1778457599@vss.nu
SUMMARY:Öppningshelg på Ekholmen
DESCRIPTION:Öppningshelg på Ekholmen. Kallelse kommer.
URL:https://vss.nu/event/oppningshelg-pa-ekholmen-2/
LOCATION:Ekholmen\, Storsaxaren\, Vaxholm\, Sverige
CATEGORIES:Arbetstillfälle,Ekholmen
END:VEVENT
BEGIN:VEVENT
DTSTART;TZID=Europe/Stockholm:20260509T074500
DTEND;TZID=Europe/Stockholm:20260509T170000
DTSTAMP:20260425T171827
CREATED:20260304T183820Z
LAST-MODIFIED:20260304T183820Z
UID:13369-1778312700-1778346000@vss.nu
SUMMARY:Sjösättning
DESCRIPTION:Morgonpasset börjar 07.45 och eftermiddagspasset startar kl 13.00. Alla hjälps åt tills hamnförman blåser av passet.
URL:https://vss.nu/event/sjosattning-21/
LOCATION:Hundudden\, Hunduddsvägen 55\, Stockholm\, Sverige
CATEGORIES:VSS
END:VEVENT
BEGIN:VEVENT
DTSTART;TZID=Europe/Stockholm:20260510T074500
DTEND;TZID=Europe/Stockholm:20260510T170000
DTSTAMP:20260425T171827
CREATED:20260304T183858Z
LAST-MODIFIED:20260304T183858Z
UID:13372-1778399100-1778432400@vss.nu
SUMMARY:Sjösättning
DESCRIPTION:Morgonpasset börjar 07.45 och eftermiddagspasset startar kl 13.00. Alla hjälps åt tills hamnförman blåser av passet.
URL:https://vss.nu/event/sjosattning-22/
LOCATION:Hundudden\, Hunduddsvägen 55\, Stockholm\, Sverige
CATEGORIES:VSS
END:VEVENT
BEGIN:VEVENT
DTSTART;TZID=Europe/Stockholm:20260513T173000
DTEND;TZID=Europe/Stockholm:20260513T203000
DTSTAMP:20260425T171827
CREATED:20251207T184210Z
LAST-MODIFIED:20251207T184210Z
UID:13011-1778693400-1778704200@vss.nu
SUMMARY:Kvällssegling - Vindvännerna
DESCRIPTION:Segling \nLäs mer och anmäl dig >
URL:https://vss.nu/event/kvallssegling-vindvannerna-4/
LOCATION:Hundudden\, Hunduddsvägen 55\, Stockholm\, Sverige
CATEGORIES:Juniorkommittén
END:VEVENT
BEGIN:VEVENT
DTSTART;TZID=Europe/Stockholm:20260514T173000
DTEND;TZID=Europe/Stockholm:20260514T203000
DTSTAMP:20260425T171827
CREATED:20251207T190904Z
LAST-MODIFIED:20251207T190904Z
UID:13048-1778779800-1778790600@vss.nu
SUMMARY:Kvällssegling - Sjökaptenerna
DESCRIPTION:Segling \nLäs mer och anmäl dig >
URL:https://vss.nu/event/kvallssegling-sjokaptenerna-3/
LOCATION:Hundudden\, Hunduddsvägen 55\, Stockholm\, Sverige
CATEGORIES:Juniorkommittén
END:VEVENT
BEGIN:VEVENT
DTSTART;TZID=Europe/Stockholm:20260516T074500
DTEND;TZID=Europe/Stockholm:20260516T170000
DTSTAMP:20260425T171827
CREATED:20260304T184012Z
LAST-MODIFIED:20260304T184012Z
UID:13375-1778917500-1778950800@vss.nu
SUMMARY:Sjösättning
DESCRIPTION:Morgonpasset börjar 07.45 och eftermiddagspasset startar kl 13.00. Alla hjälps åt tills hamnförman blåser av passet.
URL:https://vss.nu/event/sjosattning-23/
LOCATION:Hundudden\, Hunduddsvägen 55\, Stockholm\, Sverige
CATEGORIES:VSS
END:VEVENT
BEGIN:VEVENT
DTSTART;TZID=Europe/Stockholm:20260517T074500
DTEND;TZID=Europe/Stockholm:20260517T170000
DTSTAMP:20260425T171827
CREATED:20260304T184212Z
LAST-MODIFIED:20260304T184212Z
UID:13378-1779003900-1779037200@vss.nu
SUMMARY:Sjösättning
DESCRIPTION:Sista ordinarie sjösättning.\nMorgonpasset börjar 07.45 och eftermiddagspasset startar kl 13.00. Alla hjälps åt tills hamnförman blåser av passet.
URL:https://vss.nu/event/sjosattning-24/
LOCATION:Hundudden\, Hunduddsvägen 55\, Stockholm\, Sverige
CATEGORIES:VSS
END:VEVENT
BEGIN:VEVENT
DTSTART;TZID=Europe/Stockholm:20260520T173000
DTEND;TZID=Europe/Stockholm:20260520T203000
DTSTAMP:20260425T171827
CREATED:20251207T184623Z
LAST-MODIFIED:20251207T184623Z
UID:13014-1779298200-1779309000@vss.nu
SUMMARY:Kvällssegling - Vindvännerna
DESCRIPTION:Segling \nLäs mer och anmäl dig >
URL:https://vss.nu/event/kvallssegling-vindvannerna-5/
LOCATION:Hundudden\, Hunduddsvägen 55\, Stockholm\, Sverige
CATEGORIES:Juniorkommittén
END:VEVENT
BEGIN:VEVENT
DTSTART;TZID=Europe/Stockholm:20260521T173000
DTEND;TZID=Europe/Stockholm:20260521T203000
DTSTAMP:20260425T171827
CREATED:20251207T191054Z
LAST-MODIFIED:20251207T191054Z
UID:13051-1779384600-1779395400@vss.nu
SUMMARY:Kvällssegling - Sjökaptenerna
DESCRIPTION:Segling \nLäs mer och anmäl dig >
URL:https://vss.nu/event/kvallssegling-sjokaptenerna-4/
LOCATION:Hundudden\, Hunduddsvägen 55\, Stockholm\, Sverige
CATEGORIES:Juniorkommittén
END:VEVENT
BEGIN:VEVENT
DTSTART;VALUE=DATE:20260523
DTEND;VALUE=DATE:20260525
DTSTAMP:20260425T171827
CREATED:20260312T185841Z
LAST-MODIFIED:20260312T185841Z
UID:13426-1779494400-1779667199@vss.nu
SUMMARY:Arbetshelg på Ekholmen
DESCRIPTION:Arbetshelg på Ekholmen. Kallelse kommer.
URL:https://vss.nu/event/arbetshelg-pa-ekholmen-2/
LOCATION:Ekholmen\, Storsaxaren\, Vaxholm\, Sverige
CATEGORIES:Arbetstillfälle,Ekholmen
END:VEVENT
BEGIN:VEVENT
DTSTART;TZID=Europe/Stockholm:20260526T180000
DTEND;TZID=Europe/Stockholm:20260526T203000
DTSTAMP:20260425T171827
CREATED:20260312T190000Z
LAST-MODIFIED:20260312T190000Z
UID:13429-1779818400-1779827400@vss.nu
SUMMARY:Städkväll på varvet
DESCRIPTION:Samling kl. 18.00\, ingen anmälan.
URL:https://vss.nu/event/stadkvall-pa-varvet-4/
LOCATION:Hundudden\, Hunduddsvägen 55\, Stockholm\, Sverige
CATEGORIES:Arbetstillfälle
END:VEVENT
BEGIN:VEVENT
DTSTART;TZID=Europe/Stockholm:20260527T173000
DTEND;TZID=Europe/Stockholm:20260527T203000
DTSTAMP:20260425T171827
CREATED:20251207T184729Z
LAST-MODIFIED:20251207T184729Z
UID:13017-1779903000-1779913800@vss.nu
SUMMARY:Kvällssegling - Vindvännerna
DESCRIPTION:Segling \nLäs mer och anmäl dig >
URL:https://vss.nu/event/kvallssegling-vindvannerna-6/
LOCATION:Hundudden\, Hunduddsvägen 55\, Stockholm\, Sverige
CATEGORIES:Juniorkommittén
END:VEVENT
BEGIN:VEVENT
DTSTART;TZID=Europe/Stockholm:20260528T173000
DTEND;TZID=Europe/Stockholm:20260528T203000
DTSTAMP:20260425T171827
CREATED:20251207T191223Z
LAST-MODIFIED:20251207T191223Z
UID:13054-1779989400-1780000200@vss.nu
SUMMARY:Kvällssegling - Sjökaptenerna
DESCRIPTION:Segling \nLäs mer och anmäl dig >
URL:https://vss.nu/event/kvallssegling-sjokaptenerna-5/
LOCATION:Hundudden\, Hunduddsvägen 55\, Stockholm\, Sverige
CATEGORIES:Juniorkommittén
END:VEVENT
BEGIN:VEVENT
DTSTART;TZID=Europe/Stockholm:20260528T180000
DTEND;TZID=Europe/Stockholm:20260528T190000
DTSTAMP:20260425T171827
CREATED:20260312T190514Z
LAST-MODIFIED:20260312T190514Z
UID:13435-1779991200-1779994800@vss.nu
SUMMARY:Informationsmöte för nya medlemmar
DESCRIPTION:Kallelse skickas ut till dig som är ny medlem i Sällskapet. Representanter från styrelsen och VSS kommittéer berättar om verksamheten och svarar på frågor.
URL:https://vss.nu/event/informationsmote-for-nya-medlemmar/
LOCATION:Klubbhuset\, Hunduddsvägen 55\, Stockholm\, Sverige
CATEGORIES:VSS
END:VEVENT
END:VCALENDAR