BEGIN:VCALENDAR
VERSION:2.0
PRODID:-//Vikingarnas Segel Sällskap - ECPv6.15.20//NONSGML v1.0//EN
CALSCALE:GREGORIAN
METHOD:PUBLISH
X-WR-CALNAME:Vikingarnas Segel Sällskap
X-ORIGINAL-URL:https://vss.nu
X-WR-CALDESC:Händelser för Vikingarnas Segel Sällskap
REFRESH-INTERVAL;VALUE=DURATION:PT1H
X-Robots-Tag:noindex
X-PUBLISHED-TTL:PT1H
BEGIN:VTIMEZONE
TZID:Europe/Stockholm
BEGIN:DAYLIGHT
TZOFFSETFROM:+0100
TZOFFSETTO:+0200
TZNAME:CEST
DTSTART:20250330T010000
END:DAYLIGHT
BEGIN:STANDARD
TZOFFSETFROM:+0200
TZOFFSETTO:+0100
TZNAME:CET
DTSTART:20251026T010000
END:STANDARD
BEGIN:DAYLIGHT
TZOFFSETFROM:+0100
TZOFFSETTO:+0200
TZNAME:CEST
DTSTART:20260329T010000
END:DAYLIGHT
BEGIN:STANDARD
TZOFFSETFROM:+0200
TZOFFSETTO:+0100
TZNAME:CET
DTSTART:20261025T010000
END:STANDARD
BEGIN:DAYLIGHT
TZOFFSETFROM:+0100
TZOFFSETTO:+0200
TZNAME:CEST
DTSTART:20270328T010000
END:DAYLIGHT
BEGIN:STANDARD
TZOFFSETFROM:+0200
TZOFFSETTO:+0100
TZNAME:CET
DTSTART:20271031T010000
END:STANDARD
END:VTIMEZONE
BEGIN:VEVENT
DTSTART;TZID=Europe/Stockholm:20260826T173000
DTEND;TZID=Europe/Stockholm:20260826T203000
DTSTAMP:20260425T203121
CREATED:20251207T185709Z
LAST-MODIFIED:20251207T185709Z
UID:13029-1787765400-1787776200@vss.nu
SUMMARY:Kvällssegling - Vindvännerna
DESCRIPTION:Segling \nLäs mer och anmäl dig >
URL:https://vss.nu/event/kvallssegling-vindvannerna-10/
LOCATION:Hundudden\, Hunduddsvägen 55\, Stockholm\, Sverige
CATEGORIES:Juniorkommittén
END:VEVENT
BEGIN:VEVENT
DTSTART;TZID=Europe/Stockholm:20260827T173000
DTEND;TZID=Europe/Stockholm:20260827T203000
DTSTAMP:20260425T203121
CREATED:20251207T192851Z
LAST-MODIFIED:20251207T192851Z
UID:13066-1787851800-1787862600@vss.nu
SUMMARY:Kvällssegling - Sjökaptenerna
DESCRIPTION:Segling \nLäs mer och anmäl dig >
URL:https://vss.nu/event/kvallssegling-sjokaptenerna-9/
LOCATION:Hundudden\, Hunduddsvägen 55\, Stockholm\, Sverige
CATEGORIES:Juniorkommittén
END:VEVENT
BEGIN:VEVENT
DTSTART;VALUE=DATE:20260829
DTEND;VALUE=DATE:20260830
DTSTAMP:20260425T203121
CREATED:20260315T182246Z
LAST-MODIFIED:20260315T182246Z
UID:13543-1787961600-1788047999@vss.nu
SUMMARY:Sista manusdag Seglar-Vikingen nr 3
DESCRIPTION:
URL:https://vss.nu/event/sista-manusdag-seglar-vikingen-nr-3/
CATEGORIES:Seglar-Vikingen
END:VEVENT
BEGIN:VEVENT
DTSTART;TZID=Europe/Stockholm:20260902T173000
DTEND;TZID=Europe/Stockholm:20260902T203000
DTSTAMP:20260425T203121
CREATED:20251207T185810Z
LAST-MODIFIED:20251207T185810Z
UID:13032-1788370200-1788381000@vss.nu
SUMMARY:Kvällssegling - Vindvännerna
DESCRIPTION:Segling \nLäs mer och anmäl dig >
URL:https://vss.nu/event/kvallssegling-vindvannerna-11/
LOCATION:Hundudden\, Hunduddsvägen 55\, Stockholm\, Sverige
CATEGORIES:Juniorkommittén
END:VEVENT
BEGIN:VEVENT
DTSTART;TZID=Europe/Stockholm:20260903T173000
DTEND;TZID=Europe/Stockholm:20260903T203000
DTSTAMP:20260425T203121
CREATED:20251207T193133Z
LAST-MODIFIED:20251207T193133Z
UID:13069-1788456600-1788467400@vss.nu
SUMMARY:Kvällssegling - Sjökaptenerna
DESCRIPTION:Segling \nLäs mer och anmäl dig >
URL:https://vss.nu/event/kvallssegling-sjokaptenerna-10/
LOCATION:Hundudden\, Hunduddsvägen 55\, Stockholm\, Sverige
CATEGORIES:Juniorkommittén
END:VEVENT
BEGIN:VEVENT
DTSTART;TZID=Europe/Stockholm:20260903T190000
DTEND;TZID=Europe/Stockholm:20260903T200000
DTSTAMP:20260425T203121
CREATED:20260314T221912Z
LAST-MODIFIED:20260314T221912Z
UID:13482-1788462000-1788465600@vss.nu
SUMMARY:Informationsmöte för nya medlemmar
DESCRIPTION:Inbjudan skickas ut till dig som är nya medlem i VSS. Här får du info om hur allt fungerar på varvet och på Ekholmen. Representanter från styrelsen och VSS kommittéer informerar och svarar på frågor\,
URL:https://vss.nu/event/informationsmote-for-nya-medlemmar-2/
LOCATION:Klubbhuset\, Hunduddsvägen 55\, Stockholm\, Sverige
CATEGORIES:VSS
END:VEVENT
BEGIN:VEVENT
DTSTART;VALUE=DATE:20260905
DTEND;VALUE=DATE:20260907
DTSTAMP:20260425T203121
CREATED:20260314T222114Z
LAST-MODIFIED:20260314T222114Z
UID:13485-1788566400-1788739199@vss.nu
SUMMARY:Arbetshelg på Ekholmen
DESCRIPTION:Arbetshelg på Ekholmen.
URL:https://vss.nu/event/arbetshelg-pa-ekholmen-6/
CATEGORIES:Arbetstillfälle
END:VEVENT
BEGIN:VEVENT
DTSTART;VALUE=DATE:20260907
DTEND;VALUE=DATE:20260908
DTSTAMP:20260425T203121
CREATED:20260314T222431Z
LAST-MODIFIED:20260314T222431Z
UID:13488-1788739200-1788825599@vss.nu
SUMMARY:Sista dag för motioner till höstmötet
DESCRIPTION:
URL:https://vss.nu/event/sista-dag-for-motioner-till-hostmotet-3/
CATEGORIES:VSS
END:VEVENT
BEGIN:VEVENT
DTSTART;TZID=Europe/Stockholm:20260908T180000
DTEND;TZID=Europe/Stockholm:20260908T203000
DTSTAMP:20260425T203121
CREATED:20260314T222627Z
LAST-MODIFIED:20260314T222643Z
UID:13491-1788890400-1788899400@vss.nu
SUMMARY:Städkväll på varvet
DESCRIPTION:Samling kl. 18.00\, ingen anmälan.
URL:https://vss.nu/event/stadkvall-pa-varvet-13/
LOCATION:Hundudden\, Hunduddsvägen 55\, Stockholm\, Sverige
CATEGORIES:Arbetstillfälle
END:VEVENT
BEGIN:VEVENT
DTSTART;TZID=Europe/Stockholm:20260909T173000
DTEND;TZID=Europe/Stockholm:20260909T203000
DTSTAMP:20260425T203121
CREATED:20251207T190056Z
LAST-MODIFIED:20251207T190056Z
UID:13035-1788975000-1788985800@vss.nu
SUMMARY:Kvällssegling - Vindvännerna
DESCRIPTION:Segling \nLäs mer och anmäl dig >
URL:https://vss.nu/event/kvallssegling-vindvannerna-12/
LOCATION:Hundudden\, Hunduddsvägen 55\, Stockholm\, Sverige
CATEGORIES:Juniorkommittén
END:VEVENT
BEGIN:VEVENT
DTSTART;TZID=Europe/Stockholm:20260910T173000
DTEND;TZID=Europe/Stockholm:20260910T203000
DTSTAMP:20260425T203121
CREATED:20251207T193223Z
LAST-MODIFIED:20251207T193844Z
UID:13072-1789061400-1789072200@vss.nu
SUMMARY:Kvällssegling - Sjökaptenerna
DESCRIPTION:Segling \nLäs mer och anmäl dig >
URL:https://vss.nu/event/kvallssegling-sjokaptenerna-11/
LOCATION:Hundudden\, Hunduddsvägen 55\, Stockholm\, Sverige
CATEGORIES:Juniorkommittén
END:VEVENT
BEGIN:VEVENT
DTSTART;TZID=Europe/Stockholm:20260916T173000
DTEND;TZID=Europe/Stockholm:20260916T203000
DTSTAMP:20260425T203121
CREATED:20251207T190309Z
LAST-MODIFIED:20251207T190309Z
UID:13038-1789579800-1789590600@vss.nu
SUMMARY:Kvällssegling - Vindvännerna
DESCRIPTION:Segling \nLäs mer och anmäl dig >
URL:https://vss.nu/event/kvallssegling-vindvannerna-13/
LOCATION:Hundudden\, Hunduddsvägen 55\, Stockholm\, Sverige
CATEGORIES:Juniorkommittén
END:VEVENT
BEGIN:VEVENT
DTSTART;TZID=Europe/Stockholm:20260917T173000
DTEND;TZID=Europe/Stockholm:20260917T203000
DTSTAMP:20260425T203121
CREATED:20251207T193313Z
LAST-MODIFIED:20251207T193313Z
UID:13075-1789666200-1789677000@vss.nu
SUMMARY:Kvällssegling - Sjökaptenerna
DESCRIPTION:Segling \nLäs mer och anmäl dig >
URL:https://vss.nu/event/kvallssegling-sjokaptenerna-12/
LOCATION:Hundudden\, Hunduddsvägen 55\, Stockholm\, Sverige
CATEGORIES:Juniorkommittén
END:VEVENT
BEGIN:VEVENT
DTSTART;TZID=Europe/Stockholm:20260919T074500
DTEND;TZID=Europe/Stockholm:20260919T170000
DTSTAMP:20260425T203121
CREATED:20260304T184603Z
LAST-MODIFIED:20260304T184603Z
UID:13381-1789803900-1789837200@vss.nu
SUMMARY:Upptagning
DESCRIPTION:Upptagningarna startar.\nMorgonpasset börjar 07.45 och eftermiddagspasset startar kl 13.00. Alla hjälps åt tills hamnförman blåser av passet.
URL:https://vss.nu/event/upptagning/
LOCATION:Hundudden\, Hunduddsvägen 55\, Stockholm\, Sverige
CATEGORIES:VSS
END:VEVENT
BEGIN:VEVENT
DTSTART;TZID=Europe/Stockholm:20260920T074500
DTEND;TZID=Europe/Stockholm:20260920T170000
DTSTAMP:20260425T203121
CREATED:20260304T184645Z
LAST-MODIFIED:20260304T184645Z
UID:13384-1789890300-1789923600@vss.nu
SUMMARY:Upptagning
DESCRIPTION:Morgonpasset börjar 07.45 och eftermiddagspasset startar kl 13.00. Alla hjälps åt tills hamnförman blåser av passet.
URL:https://vss.nu/event/upptagning-2/
LOCATION:Hundudden\, Hunduddsvägen 55\, Stockholm\, Sverige
CATEGORIES:VSS
END:VEVENT
BEGIN:VEVENT
DTSTART;TZID=Europe/Stockholm:20260923T173000
DTEND;TZID=Europe/Stockholm:20260923T203000
DTSTAMP:20260425T203121
CREATED:20251207T190434Z
LAST-MODIFIED:20251207T190434Z
UID:13041-1790184600-1790195400@vss.nu
SUMMARY:Kvällssegling - Vindvännerna
DESCRIPTION:Avslutning med båtvård \nLäs mer och anmäl dig >
URL:https://vss.nu/event/kvallssegling-vindvannerna-14/
LOCATION:Hundudden\, Hunduddsvägen 55\, Stockholm\, Sverige
CATEGORIES:Juniorkommittén
END:VEVENT
BEGIN:VEVENT
DTSTART;TZID=Europe/Stockholm:20260924T173000
DTEND;TZID=Europe/Stockholm:20260924T203000
DTSTAMP:20260425T203121
CREATED:20251207T193732Z
LAST-MODIFIED:20251207T193732Z
UID:13078-1790271000-1790281800@vss.nu
SUMMARY:Kvällsseglingarna - Sjökaptenerna
DESCRIPTION:Avslutning med båtvård. \nLäs mer och anmäl dig >
URL:https://vss.nu/event/kvallsseglingarna-sjokaptenerna/
LOCATION:Hundudden\, Hunduddsvägen 55\, Stockholm\, Sverige
CATEGORIES:Juniorkommittén
END:VEVENT
BEGIN:VEVENT
DTSTART;VALUE=DATE:20260926
DTEND;VALUE=DATE:20260928
DTSTAMP:20260425T203121
CREATED:20260314T222911Z
LAST-MODIFIED:20260314T222911Z
UID:13494-1790380800-1790553599@vss.nu
SUMMARY:Stängningshelg på Ekholmen
DESCRIPTION:Kallelse kommer.
URL:https://vss.nu/event/stangningshelg-pa-ekholmen-3/
LOCATION:Ekholmen\, Storsaxaren\, Vaxholm\, Sverige
CATEGORIES:Arbetstillfälle,Ekholmen
END:VEVENT
BEGIN:VEVENT
DTSTART;TZID=Europe/Stockholm:20260926T074500
DTEND;TZID=Europe/Stockholm:20260926T170000
DTSTAMP:20260425T203121
CREATED:20260304T184734Z
LAST-MODIFIED:20260304T184734Z
UID:13387-1790408700-1790442000@vss.nu
SUMMARY:Upptagning
DESCRIPTION:Morgonpasset börjar 07.45 och eftermiddagspasset startar kl 13.00. Alla hjälps åt tills hamnförman blåser av passet.
URL:https://vss.nu/event/upptagning-3/
LOCATION:Hundudden\, Hunduddsvägen 55\, Stockholm\, Sverige
CATEGORIES:VSS
END:VEVENT
BEGIN:VEVENT
DTSTART;TZID=Europe/Stockholm:20260927T074500
DTEND;TZID=Europe/Stockholm:20260927T170000
DTSTAMP:20260425T203121
CREATED:20260304T184818Z
LAST-MODIFIED:20260304T184818Z
UID:13390-1790495100-1790528400@vss.nu
SUMMARY:Upptagning
DESCRIPTION:Morgonpasset börjar 07.45 och eftermiddagspasset startar kl 13.00. Alla hjälps åt tills hamnförman blåser av passet.
URL:https://vss.nu/event/upptagning-4/
LOCATION:Hundudden\, Hunduddsvägen 55\, Stockholm\, Sverige
CATEGORIES:VSS
END:VEVENT
BEGIN:VEVENT
DTSTART;TZID=Europe/Stockholm:20261003T074500
DTEND;TZID=Europe/Stockholm:20261003T170000
DTSTAMP:20260425T203121
CREATED:20260304T184940Z
LAST-MODIFIED:20260304T184940Z
UID:13393-1791013500-1791046800@vss.nu
SUMMARY:Upptagning
DESCRIPTION:Morgonpasset börjar 07.45 och eftermiddagspasset startar kl 13.00. Alla hjälps åt tills hamnförman blåser av passet.
URL:https://vss.nu/event/upptagning-5/
CATEGORIES:VSS
END:VEVENT
BEGIN:VEVENT
DTSTART;TZID=Europe/Stockholm:20261004T074500
DTEND;TZID=Europe/Stockholm:20261004T170000
DTSTAMP:20260425T203121
CREATED:20260304T185023Z
LAST-MODIFIED:20260304T185023Z
UID:13396-1791099900-1791133200@vss.nu
SUMMARY:Upptagning
DESCRIPTION:Morgonpasset börjar 07.45 och eftermiddagspasset startar kl 13.00. Alla hjälps åt tills hamnförman blåser av passet.
URL:https://vss.nu/event/upptagning-6/
LOCATION:Hundudden\, Hunduddsvägen 55\, Stockholm\, Sverige
CATEGORIES:VSS
END:VEVENT
BEGIN:VEVENT
DTSTART;TZID=Europe/Stockholm:20261010T074500
DTEND;TZID=Europe/Stockholm:20261010T170000
DTSTAMP:20260425T203121
CREATED:20260304T185118Z
LAST-MODIFIED:20260304T185118Z
UID:13399-1791618300-1791651600@vss.nu
SUMMARY:Upptagning
DESCRIPTION:Morgonpasset börjar 07.45 och eftermiddagspasset startar kl 13.00. Alla hjälps åt tills hamnförman blåser av passet.
URL:https://vss.nu/event/upptagning-7/
LOCATION:Hundudden\, Hunduddsvägen 55\, Stockholm\, Sverige
CATEGORIES:VSS
END:VEVENT
BEGIN:VEVENT
DTSTART;TZID=Europe/Stockholm:20261011T074500
DTEND;TZID=Europe/Stockholm:20261011T170000
DTSTAMP:20260425T203121
CREATED:20260304T185202Z
LAST-MODIFIED:20260304T185202Z
UID:13402-1791704700-1791738000@vss.nu
SUMMARY:Upptagning
DESCRIPTION:Morgonpasset börjar 07.45 och eftermiddagspasset startar kl 13.00. Alla hjälps åt tills hamnförman blåser av passet.
URL:https://vss.nu/event/upptagning-8/
LOCATION:Hundudden\, Hunduddsvägen 55\, Stockholm\, Sverige
CATEGORIES:VSS
END:VEVENT
BEGIN:VEVENT
DTSTART;TZID=Europe/Stockholm:20261017T074500
DTEND;TZID=Europe/Stockholm:20261017T170000
DTSTAMP:20260425T203121
CREATED:20260304T185257Z
LAST-MODIFIED:20260304T185257Z
UID:13405-1792223100-1792256400@vss.nu
SUMMARY:Upptagning
DESCRIPTION:Morgonpasset börjar 07.45 och eftermiddagspasset startar kl 13.00. Alla hjälps åt tills hamnförman blåser av passet.
URL:https://vss.nu/event/upptagning-9/
LOCATION:Hundudden\, Hunduddsvägen 55\, Stockholm\, Sverige
CATEGORIES:VSS
END:VEVENT
BEGIN:VEVENT
DTSTART;TZID=Europe/Stockholm:20261018T074500
DTEND;TZID=Europe/Stockholm:20261018T170000
DTSTAMP:20260425T203121
CREATED:20260304T185350Z
LAST-MODIFIED:20260304T185350Z
UID:13408-1792309500-1792342800@vss.nu
SUMMARY:Upptagning
DESCRIPTION:Sista ordinarie upptagning.\nMorgonpasset börjar 07.45 och eftermiddagspasset startar kl 13.00. Alla hjälps åt tills hamnförman blåser av passet.
URL:https://vss.nu/event/upptagning-10/
CATEGORIES:VSS
END:VEVENT
BEGIN:VEVENT
DTSTART;TZID=Europe/Stockholm:20261018T100000
DTEND;TZID=Europe/Stockholm:20261018T150000
DTSTAMP:20260425T203121
CREATED:20260314T224219Z
LAST-MODIFIED:20260314T224219Z
UID:13497-1792317600-1792335600@vss.nu
SUMMARY:Städdag på varvet
DESCRIPTION:Samling kl. 10.00.
URL:https://vss.nu/event/staddag-pa-varvet/
LOCATION:Hundudden\, Hunduddsvägen 55\, Stockholm\, Sverige
CATEGORIES:Arbetstillfälle
END:VEVENT
BEGIN:VEVENT
DTSTART;TZID=Europe/Stockholm:20261022T190000
DTEND;TZID=Europe/Stockholm:20261022T203000
DTSTAMP:20260425T203121
CREATED:20260314T224627Z
LAST-MODIFIED:20260314T224627Z
UID:13500-1792695600-1792701000@vss.nu
SUMMARY:Höstmöte
DESCRIPTION:Kallelse och dagorning publeceras i Sglar.Vikingen nr 3.
URL:https://vss.nu/event/hostmote/
LOCATION:Klubbhuset\, Hunduddsvägen 55\, Stockholm\, Sverige
CATEGORIES:VSS
END:VEVENT
BEGIN:VEVENT
DTSTART;TZID=Europe/Stockholm:20261025T140000
DTEND;TZID=Europe/Stockholm:20261025T160000
DTSTAMP:20260425T203121
CREATED:20260315T180537Z
LAST-MODIFIED:20260315T182930Z
UID:13510-1792936800-1792944000@vss.nu
SUMMARY:DSVs födelsedagskaffe
DESCRIPTION:DSV firar födelsedag med kaffe och fyller 106 år.\nOBS! firas i efterskott! \nKallelse kommer.
URL:https://vss.nu/event/dsvs-fodelsedagskaffe/
LOCATION:Klubbhuset\, Hunduddsvägen 55\, Stockholm\, Sverige
CATEGORIES:DSV
END:VEVENT
BEGIN:VEVENT
DTSTART;VALUE=DATE:20261101
DTEND;VALUE=DATE:20261102
DTSTAMP:20260425T203121
CREATED:20260315T180633Z
LAST-MODIFIED:20260315T180633Z
UID:13513-1793491200-1793577599@vss.nu
SUMMARY:Sista manusdag Seglar-Vikingen nr 4
DESCRIPTION:
URL:https://vss.nu/event/sista-manusdag-seglar-vikingen-nr-4-3/
CATEGORIES:Seglar-Vikingen
END:VEVENT
END:VCALENDAR