BEGIN:VCALENDAR
VERSION:2.0
PRODID:-//Vikingarnas Segel Sällskap - ECPv6.15.20//NONSGML v1.0//EN
CALSCALE:GREGORIAN
METHOD:PUBLISH
X-ORIGINAL-URL:https://vss.nu
X-WR-CALDESC:Händelser för Vikingarnas Segel Sällskap
REFRESH-INTERVAL;VALUE=DURATION:PT1H
X-Robots-Tag:noindex
X-PUBLISHED-TTL:PT1H
BEGIN:VTIMEZONE
TZID:Europe/Stockholm
BEGIN:DAYLIGHT
TZOFFSETFROM:+0100
TZOFFSETTO:+0200
TZNAME:CEST
DTSTART:20250330T010000
END:DAYLIGHT
BEGIN:STANDARD
TZOFFSETFROM:+0200
TZOFFSETTO:+0100
TZNAME:CET
DTSTART:20251026T010000
END:STANDARD
BEGIN:DAYLIGHT
TZOFFSETFROM:+0100
TZOFFSETTO:+0200
TZNAME:CEST
DTSTART:20260329T010000
END:DAYLIGHT
BEGIN:STANDARD
TZOFFSETFROM:+0200
TZOFFSETTO:+0100
TZNAME:CET
DTSTART:20261025T010000
END:STANDARD
BEGIN:DAYLIGHT
TZOFFSETFROM:+0100
TZOFFSETTO:+0200
TZNAME:CEST
DTSTART:20270328T010000
END:DAYLIGHT
BEGIN:STANDARD
TZOFFSETFROM:+0200
TZOFFSETTO:+0100
TZNAME:CET
DTSTART:20271031T010000
END:STANDARD
END:VTIMEZONE
BEGIN:VEVENT
DTSTART;TZID=Europe/Stockholm:20260526T180000
DTEND;TZID=Europe/Stockholm:20260526T203000
DTSTAMP:20260425T182038
CREATED:20260312T190000Z
LAST-MODIFIED:20260312T190000Z
UID:13429-1779818400-1779827400@vss.nu
SUMMARY:Städkväll på varvet
DESCRIPTION:Samling kl. 18.00\, ingen anmälan.
URL:https://vss.nu/event/stadkvall-pa-varvet-4/
LOCATION:Hundudden\, Hunduddsvägen 55\, Stockholm\, Sverige
CATEGORIES:Arbetstillfälle
END:VEVENT
BEGIN:VEVENT
DTSTART;TZID=Europe/Stockholm:20260527T173000
DTEND;TZID=Europe/Stockholm:20260527T203000
DTSTAMP:20260425T182038
CREATED:20251207T184729Z
LAST-MODIFIED:20251207T184729Z
UID:13017-1779903000-1779913800@vss.nu
SUMMARY:Kvällssegling - Vindvännerna
DESCRIPTION:Segling \nLäs mer och anmäl dig >
URL:https://vss.nu/event/kvallssegling-vindvannerna-6/
LOCATION:Hundudden\, Hunduddsvägen 55\, Stockholm\, Sverige
CATEGORIES:Juniorkommittén
END:VEVENT
BEGIN:VEVENT
DTSTART;TZID=Europe/Stockholm:20260528T173000
DTEND;TZID=Europe/Stockholm:20260528T203000
DTSTAMP:20260425T182038
CREATED:20251207T191223Z
LAST-MODIFIED:20251207T191223Z
UID:13054-1779989400-1780000200@vss.nu
SUMMARY:Kvällssegling - Sjökaptenerna
DESCRIPTION:Segling \nLäs mer och anmäl dig >
URL:https://vss.nu/event/kvallssegling-sjokaptenerna-5/
LOCATION:Hundudden\, Hunduddsvägen 55\, Stockholm\, Sverige
CATEGORIES:Juniorkommittén
END:VEVENT
BEGIN:VEVENT
DTSTART;TZID=Europe/Stockholm:20260528T180000
DTEND;TZID=Europe/Stockholm:20260528T190000
DTSTAMP:20260425T182038
CREATED:20260312T190514Z
LAST-MODIFIED:20260312T190514Z
UID:13435-1779991200-1779994800@vss.nu
SUMMARY:Informationsmöte för nya medlemmar
DESCRIPTION:Kallelse skickas ut till dig som är ny medlem i Sällskapet. Representanter från styrelsen och VSS kommittéer berättar om verksamheten och svarar på frågor.
URL:https://vss.nu/event/informationsmote-for-nya-medlemmar/
LOCATION:Klubbhuset\, Hunduddsvägen 55\, Stockholm\, Sverige
CATEGORIES:VSS
END:VEVENT
BEGIN:VEVENT
DTSTART;TZID=Europe/Stockholm:20260528T190000
DTEND;TZID=Europe/Stockholm:20260528T203000
DTSTAMP:20260425T182038
CREATED:20260312T190153Z
LAST-MODIFIED:20260312T190153Z
UID:13432-1779994800-1780000200@vss.nu
SUMMARY:Vårmöte
DESCRIPTION:Kallelse och dagordning publiceras i Seglar-Vikingen nr 2.
URL:https://vss.nu/event/varmote/
LOCATION:Klubbhuset\, Hunduddsvägen 55\, Stockholm\, Sverige
CATEGORIES:VSS
END:VEVENT
BEGIN:VEVENT
DTSTART;VALUE=DATE:20260530
DTEND;VALUE=DATE:20260601
DTSTAMP:20260425T182038
CREATED:20260312T191711Z
LAST-MODIFIED:20260312T191711Z
UID:13438-1780099200-1780271999@vss.nu
SUMMARY:Vikingaregattan
DESCRIPTION:Vikingaregattan med DM för Nordisk Folkbåt och Neptunkryssare. \nAnmälan >
URL:https://vss.nu/event/vikingaregattan-2/
LOCATION:Hundudden\, Hunduddsvägen 55\, Stockholm\, Sverige
CATEGORIES:Kappseglingskommittén
END:VEVENT
BEGIN:VEVENT
DTSTART;TZID=Europe/Stockholm:20260603T173000
DTEND;TZID=Europe/Stockholm:20260603T203000
DTSTAMP:20260425T182038
CREATED:20251207T184903Z
LAST-MODIFIED:20251207T184903Z
UID:13020-1780507800-1780518600@vss.nu
SUMMARY:Kvällssegling - Vindvännerna
DESCRIPTION:Segling \nLäs mer och anmäl dig >
URL:https://vss.nu/event/kvallssegling-vindvannerna-7/
LOCATION:Hundudden\, Hunduddsvägen 55\, Stockholm\, Sverige
CATEGORIES:Juniorkommittén
END:VEVENT
BEGIN:VEVENT
DTSTART;TZID=Europe/Stockholm:20260604T173000
DTEND;TZID=Europe/Stockholm:20260604T203000
DTSTAMP:20260425T182038
CREATED:20251207T191353Z
LAST-MODIFIED:20251207T191353Z
UID:13057-1780594200-1780605000@vss.nu
SUMMARY:Kvällssegling - Sjökaptenerna
DESCRIPTION:Segling \nLäs mer och anmäl dig >
URL:https://vss.nu/event/kvallssegling-sjokaptenerna-6/
LOCATION:Hundudden\, Hunduddsvägen 55\, Stockholm\, Sverige
CATEGORIES:Juniorkommittén
END:VEVENT
BEGIN:VEVENT
DTSTART;TZID=Europe/Stockholm:20260610T173000
DTEND;TZID=Europe/Stockholm:20260610T203000
DTSTAMP:20260425T182038
CREATED:20251207T185237Z
LAST-MODIFIED:20251207T185237Z
UID:13023-1781112600-1781123400@vss.nu
SUMMARY:Kvällssegling - Vindvännerna
DESCRIPTION:Segling\, sista för säsongen\, \nLäs mer och anmäl dig >
URL:https://vss.nu/event/kvallssegling-vindvannerna-8/
LOCATION:Hundudden\, Hunduddsvägen 55\, Stockholm\, Sverige
CATEGORIES:Juniorkommittén
END:VEVENT
BEGIN:VEVENT
DTSTART;TZID=Europe/Stockholm:20260611T173000
DTEND;TZID=Europe/Stockholm:20260611T203000
DTSTAMP:20260425T182038
CREATED:20251207T191455Z
LAST-MODIFIED:20251207T194012Z
UID:13060-1781199000-1781209800@vss.nu
SUMMARY:Kvällssegling - Sjökaptenerna
DESCRIPTION:Segling\, sista för säsongen \nLäs mer och anmäl dig >
URL:https://vss.nu/event/kvallssegling-sjokaptenerna-7/
LOCATION:Hundudden\, Hunduddsvägen 55\, Stockholm\, Sverige
CATEGORIES:Juniorkommittén
END:VEVENT
BEGIN:VEVENT
DTSTART;VALUE=DATE:20260612
DTEND;VALUE=DATE:20260613
DTSTAMP:20260425T182038
CREATED:20251128T194036Z
LAST-MODIFIED:20251128T194504Z
UID:12945-1781222400-1781308799@vss.nu
SUMMARY:Dagseglarläger 1
DESCRIPTION:12/6 samt 15/6–17/6 \nLäs mer och anmäl dig >
URL:https://vss.nu/event/dagseglarlager-1-4/
LOCATION:Hundudden\, Hunduddsvägen 55\, Stockholm\, Sverige
CATEGORIES:Juniorkommittén
END:VEVENT
BEGIN:VEVENT
DTSTART;VALUE=DATE:20260613
DTEND;VALUE=DATE:20260615
DTSTAMP:20260425T182038
CREATED:20260312T191936Z
LAST-MODIFIED:20260312T191936Z
UID:13441-1781308800-1781481599@vss.nu
SUMMARY:VSS Sprintsegling
DESCRIPTION:VSS Sprintsegling för Folkbåt.
URL:https://vss.nu/event/vss-sprintsegling/
LOCATION:Hundudden\, Hunduddsvägen 55\, Stockholm\, Sverige
CATEGORIES:Kappseglingskommittén
END:VEVENT
BEGIN:VEVENT
DTSTART;VALUE=DATE:20260615
DTEND;VALUE=DATE:20260618
DTSTAMP:20260425T182038
CREATED:20251128T194233Z
LAST-MODIFIED:20251128T194233Z
UID:12948-1781481600-1781740799@vss.nu
SUMMARY:Dagseglarläger 1
DESCRIPTION:12/6 samt 15/6–17/6 \nLäs mer och anmäl dig >
URL:https://vss.nu/event/dagseglarlager-1-5/
LOCATION:Hundudden\, Hunduddsvägen 55\, Stockholm\, Sverige
CATEGORIES:Juniorkommittén
END:VEVENT
BEGIN:VEVENT
DTSTART;VALUE=DATE:20260619
DTEND;VALUE=DATE:20260622
DTSTAMP:20260425T182038
CREATED:20260312T193943Z
LAST-MODIFIED:20260312T193943Z
UID:13450-1781827200-1782086399@vss.nu
SUMMARY:Midsommar på Ekholmen
DESCRIPTION:Traditionellt midsommarfirande med midsommarstång\, sillunch\, lekar\, grillning på kvällen och dans. Utförligt program kommer.
URL:https://vss.nu/event/midsommar-pa-ekholmen/
CATEGORIES:Ekholmen,Klubbkommittén
END:VEVENT
BEGIN:VEVENT
DTSTART;TZID=Europe/Stockholm:20260620T100000
DTEND;TZID=Europe/Stockholm:20260620T143000
DTSTAMP:20260425T182038
CREATED:20260312T192444Z
LAST-MODIFIED:20260312T192757Z
UID:13444-1781949600-1781965800@vss.nu
SUMMARY:DSVs barkbåtsbyggartävling + Smaktävling
DESCRIPTION:På midsommardagen står DSV (Diskussionsklubben Seglar Vännerna) för aktiviteterna på Ekholmen. På förmiddagen startar Barkbåtsbyggartävlingen. Här kan alla ställa upp\, både stora och små. En ”jury” bedömer de inlämnade alstren anonymt och hänsyn tas till ålder\, fantasi och täljskicklighet. Hänsyn tas också till hur mycket naturmaterial som använts\, så skippa tejp\, lim\, snören\, papper och tyg för att komma högt upp i resultatlistan. Bidragen ska vara inlämnade senast kl 13.00. \nFör den som bara flanerar runt på ön och inte har lust att skapa ett flytetyg arrangeras smaktävlingen fram till kl 13.00. Där ska 3-4 smaker med hjälp av olika alternativ prickas in. Och för att en vinnare ska kunna koras (ifall fler än en person har alla rätt  finns en utslagsfråga också\, så välkommen att testa dina smaklökar! \nPrisutdelning för både barkbåtsbygget och smaktävlingen sker runt kl 14.00. \nVälkommen! \nDSVs styrelse
URL:https://vss.nu/event/dsvs-barkbatsbyggartavling-smaktavling-2/
LOCATION:Ekholmen\, Storsaxaren\, Vaxholm\, Sverige
CATEGORIES:DSV,Ekholmen
END:VEVENT
BEGIN:VEVENT
DTSTART;VALUE=DATE:20260622
DTEND;VALUE=DATE:20260627
DTSTAMP:20260425T182038
CREATED:20251128T194411Z
LAST-MODIFIED:20251128T194411Z
UID:12951-1782086400-1782518399@vss.nu
SUMMARY:Dagseglarläger 2
DESCRIPTION:Läs mer och anmäl dig >
URL:https://vss.nu/event/dagseglarlager-2-2/
LOCATION:Hundudden\, Hunduddsvägen 55\, Stockholm\, Sverige
CATEGORIES:Juniorkommittén
END:VEVENT
BEGIN:VEVENT
DTSTART;VALUE=DATE:20260629
DTEND;VALUE=DATE:20260704
DTSTAMP:20260425T182038
CREATED:20260315T175529Z
LAST-MODIFIED:20260315T175529Z
UID:13504-1782691200-1783123199@vss.nu
SUMMARY:Dagseglarläger 3
DESCRIPTION:Läs mer och anmäl dig >
URL:https://vss.nu/event/dagseglarlager-3-3/
LOCATION:Hundudden\, Hunduddsvägen 55\, Stockholm\, Sverige
CATEGORIES:Juniorkommittén
END:VEVENT
BEGIN:VEVENT
DTSTART;VALUE=DATE:20260726
DTEND;VALUE=DATE:20260802
DTSTAMP:20260425T182038
CREATED:20251128T193040Z
LAST-MODIFIED:20251128T193040Z
UID:12936-1785024000-1785628799@vss.nu
SUMMARY:Seglarläger 1 - Ekholmen
DESCRIPTION:Ungdomsläger på Ekholmen för ungdomar i åldrarna 16-17 år. Här seglar vi samma båtar som på våra övriga läger men med mer fokus på aktiviteterna runt segling och båtliv som riktar sig till en lite äldre målgrupp\, dvs. till ungdomar och unga vuxna. Ett läger där eleverna får mer frihet men också lite mer ansvar. Även här behövs ingen förkunskap i segling\, så ta med era landkrabbor till kompisar! Våra seglarläger på Ekholmen är en superbra möjlighet att testa på eller utvecklas inom segling och samtidigt lära känna fler kompisar och få uppleva Stockholms skärgård. \nLäs mer och anmäl dig >
URL:https://vss.nu/event/seglarlager-1-ekholmen-2/
LOCATION:Ekholmen\, Storsaxaren\, Vaxholm\, Sverige
CATEGORIES:Ekholmen,Juniorkommittén
END:VEVENT
BEGIN:VEVENT
DTSTART;VALUE=DATE:20260802
DTEND;VALUE=DATE:20260809
DTSTAMP:20260425T182038
CREATED:20251128T193239Z
LAST-MODIFIED:20251128T193239Z
UID:12939-1785628800-1786233599@vss.nu
SUMMARY:Seglarläger 2
DESCRIPTION:Läs mer och anmäl dig >
URL:https://vss.nu/event/seglarlager-2-2/
LOCATION:Ekholmen\, Storsaxaren\, Vaxholm\, Sverige
CATEGORIES:Ekholmen,Juniorkommittén
END:VEVENT
BEGIN:VEVENT
DTSTART;VALUE=DATE:20260809
DTEND;VALUE=DATE:20260816
DTSTAMP:20260425T182038
CREATED:20260315T175808Z
LAST-MODIFIED:20260315T175808Z
UID:13507-1786233600-1786838399@vss.nu
SUMMARY:Seglarläger 3
DESCRIPTION:Läs mer och anmäl dig >
URL:https://vss.nu/event/seglarlager-3-3/
LOCATION:Ekholmen\, Storsaxaren\, Vaxholm\, Sverige
CATEGORIES:Juniorkommittén
END:VEVENT
BEGIN:VEVENT
DTSTART;TZID=Europe/Stockholm:20260811T180000
DTEND;TZID=Europe/Stockholm:20260811T203000
DTSTAMP:20260425T182038
CREATED:20260312T194105Z
LAST-MODIFIED:20260312T194105Z
UID:13453-1786471200-1786480200@vss.nu
SUMMARY:Städkväll på Varvet
DESCRIPTION:Samling kl. 18.00\, ingen anmälan.
URL:https://vss.nu/event/stadkvall-pa-varvet-8/
LOCATION:Hundudden\, Hunduddsvägen 55\, Stockholm\, Sverige
CATEGORIES:Arbetstillfälle
END:VEVENT
BEGIN:VEVENT
DTSTART;TZID=Europe/Stockholm:20260819T173000
DTEND;TZID=Europe/Stockholm:20260819T203000
DTSTAMP:20260425T182038
CREATED:20251207T185524Z
LAST-MODIFIED:20251207T185524Z
UID:13026-1787160600-1787171400@vss.nu
SUMMARY:Kvällssegling - Vindvännerna
DESCRIPTION:Segling \nLäs mer och anmäl dig >
URL:https://vss.nu/event/kvallssegling-vindvannerna-9/
LOCATION:Hundudden\, Hunduddsvägen 55\, Stockholm\, Sverige
CATEGORIES:Juniorkommittén
END:VEVENT
BEGIN:VEVENT
DTSTART;TZID=Europe/Stockholm:20260820T173000
DTEND;TZID=Europe/Stockholm:20260820T203000
DTSTAMP:20260425T182038
CREATED:20251207T192131Z
LAST-MODIFIED:20251207T192131Z
UID:13063-1787247000-1787257800@vss.nu
SUMMARY:Kvällssegling - Sjökaptenerna
DESCRIPTION:Segling \nLäs mer och anmäl dig >
URL:https://vss.nu/event/kvallssegling-sjokaptenerna-8/
LOCATION:Hundudden\, Hunduddsvägen 55\, Stockholm\, Sverige
CATEGORIES:Juniorkommittén
END:VEVENT
BEGIN:VEVENT
DTSTART;VALUE=DATE:20260822
DTEND;VALUE=DATE:20260824
DTSTAMP:20260425T182038
CREATED:20260314T214011Z
LAST-MODIFIED:20260314T214204Z
UID:13466-1787356800-1787529599@vss.nu
SUMMARY:Nordiskt mästerskap för 2.4mR
DESCRIPTION:Välkommen till nordiskt mästerskap för 2.4mR på Lilla Värtan! \nLäs mer >
URL:https://vss.nu/event/nordiskt-masterskap-for-2-4mr/
LOCATION:Hundudden\, Hunduddsvägen 55\, Stockholm\, Sverige
CATEGORIES:Kappseglingskommittén
END:VEVENT
BEGIN:VEVENT
DTSTART;VALUE=DATE:20260822
DTEND;VALUE=DATE:20260823
DTSTAMP:20260425T182038
CREATED:20260314T215530Z
LAST-MODIFIED:20260314T215530Z
UID:13476-1787356800-1787443199@vss.nu
SUMMARY:Kräftskiva på Ekholmen
DESCRIPTION:Mer info kommer.
URL:https://vss.nu/event/kraftskiva-pa-ekholmen-2/
LOCATION:Ekholmen\, Storsaxaren\, Vaxholm\, Sverige
CATEGORIES:Ekholmen,Klubbkommittén
END:VEVENT
BEGIN:VEVENT
DTSTART;TZID=Europe/Stockholm:20260822T130000
DTEND;TZID=Europe/Stockholm:20260822T150000
DTSTAMP:20260425T182038
CREATED:20260314T214755Z
LAST-MODIFIED:20260314T214755Z
UID:13470-1787403600-1787410800@vss.nu
SUMMARY:DSV:s Paketsegling
DESCRIPTION:Skepparmöte kl. 13.00. \nHär gäller det inte att komma först… utan tvåa\, i mitten eller näst sist! Seglingen kräver mycket taktik av de startande\, först att starta på rätt tid mellan Ekholmens flaggstång och flaggstång på Lilla Saxaren\, lite oklart vilken. Segla runt Ekholmen\, mellan Stor-Saxaren och Jansons Frestelse utan att få bottenkänning\, vidare mot röda lysbojen som ska rundas och tillbaka in i sundet mellan Stor-Saxaren och Ekholmen utan att fastna i bleke… Målgång där starten gick. Om det är varmt får man dessutom se upp för vattenkrig… \nFörst i mål får äran\, tvåan får punschen och ett chickt punsch-set och räkna placeringen nr 1 i varpatävlingen\, kommer du i mitten får du paddeln som får användas under nästa års Paketsegling\, och skulle du hamna näst sist blir det lilla punschen. \nStartavgiften är förstås ett paket till värdig motståndare!
URL:https://vss.nu/event/dsvs-paketsegling-2/
LOCATION:Ekholmen\, Storsaxaren\, Vaxholm\, Sverige
CATEGORIES:DSV,Ekholmen
END:VEVENT
BEGIN:VEVENT
DTSTART;TZID=Europe/Stockholm:20260822T130000
DTEND;TZID=Europe/Stockholm:20260822T150000
DTSTAMP:20260425T182038
CREATED:20260314T221149Z
LAST-MODIFIED:20260314T221149Z
UID:13479-1787403600-1787410800@vss.nu
SUMMARY:DSV:s Paketsegling
DESCRIPTION:Skepparmöte kl. 13.00. \nI år hoppas vi på att Paketseglingen äntligen blir av efter flera års dåligt väder med för mycket vind etc.\nI Paketseglingen kan alla ställa upp\, för här gäller det inte att komma först… utan tvåa\, i mitten eller näst sist! Seglingen kräver mycket taktik av de startande\, först att starta på rätt tid mellan Ekholmens flaggstång och flaggstång på Lilla Saxaren\, lite oklart vilken. Segla runt Ekholmen\, mellan Stor-Saxaren och Jansons Frestelse utan att få bottenkänning\, vidare mot röda lysbojen som ska rundas och tillbaka in i sundet mellan Stor-Saxaren och Ekholmen utan att fastna i bleke… Målgång där starten gick. Om det är varmt får man dessutom se upp för vattenkrig… \nFörst i mål får äran\, tvåan får punschen och ett chickt punsch-set och räkna placeringen nr 1 i varpatävlingen\, kommer du i mitten får du paddeln som får användas under nästa års Paketsegling\, och skulle du hamna näst sist blir det lilla punschen. \nStartavgiften är förstås ett paket till värdig motståndare!
URL:https://vss.nu/event/dsvs-paketsegling-4/
CATEGORIES:DSV,Ekholmen
END:VEVENT
BEGIN:VEVENT
DTSTART;TZID=Europe/Stockholm:20260823T100000
DTEND;TZID=Europe/Stockholm:20260823T120000
DTSTAMP:20260425T182038
CREATED:20260314T215333Z
LAST-MODIFIED:20260314T215333Z
UID:13473-1787479200-1787486400@vss.nu
SUMMARY:DSV:s Varpamästerskap
DESCRIPTION:VM\, varpamästerskap… Naturstenar används\, man kastar sin sten mellan två pinnar. Herr-\, dam- och barn-klass och kombinationstävling segling/varpa där resultatet från gårdagens paketsegling räknas\, 2:an = 1 poäng\, 1:an = 2 poäng\, sedan är det ”normalt”\, 3:an 3 poäng\, 4:an 4 poäng osv. Tävlande från båten i kombinationstävlingen anges vid anmälan till Paketseglingen. Kast längre än 2 meter från pinnen räknas inte\, efter tre kast på mer än 2 meter från pinnen åker man ut. \nSedan blir det utslagstävling\, och där kan man klara sig långt utan att vara inom 2 meters-gränsen. Här gäller det att komma näst sist för att vinna! \nTävlingen är öppen för alla på Ekholmen\, men för dig som är medlem i VSS önskar vi förstås att du också blir medlem i DSV. Årsavgiften för 2026 är bara 100 kr\, kan betalas på plats\, eller till vårt bankgiro 5216-1486. \nPrisutdelning sker på DSVs Höstmöte 14 november\, då det bjuds på sillunch!
URL:https://vss.nu/event/dsvs-varpamasterskap-2/
LOCATION:Ekholmen\, Storsaxaren\, Vaxholm\, Sverige
CATEGORIES:DSV
END:VEVENT
BEGIN:VEVENT
DTSTART;TZID=Europe/Stockholm:20260826T173000
DTEND;TZID=Europe/Stockholm:20260826T203000
DTSTAMP:20260425T182038
CREATED:20251207T185709Z
LAST-MODIFIED:20251207T185709Z
UID:13029-1787765400-1787776200@vss.nu
SUMMARY:Kvällssegling - Vindvännerna
DESCRIPTION:Segling \nLäs mer och anmäl dig >
URL:https://vss.nu/event/kvallssegling-vindvannerna-10/
LOCATION:Hundudden\, Hunduddsvägen 55\, Stockholm\, Sverige
CATEGORIES:Juniorkommittén
END:VEVENT
BEGIN:VEVENT
DTSTART;TZID=Europe/Stockholm:20260827T173000
DTEND;TZID=Europe/Stockholm:20260827T203000
DTSTAMP:20260425T182038
CREATED:20251207T192851Z
LAST-MODIFIED:20251207T192851Z
UID:13066-1787851800-1787862600@vss.nu
SUMMARY:Kvällssegling - Sjökaptenerna
DESCRIPTION:Segling \nLäs mer och anmäl dig >
URL:https://vss.nu/event/kvallssegling-sjokaptenerna-9/
LOCATION:Hundudden\, Hunduddsvägen 55\, Stockholm\, Sverige
CATEGORIES:Juniorkommittén
END:VEVENT
END:VCALENDAR