BEGIN:VCALENDAR
VERSION:2.0
PRODID:-//Vikingarnas Segel Sällskap - ECPv6.15.20//NONSGML v1.0//EN
CALSCALE:GREGORIAN
METHOD:PUBLISH
X-ORIGINAL-URL:https://vss.nu
X-WR-CALDESC:Händelser för Vikingarnas Segel Sällskap
REFRESH-INTERVAL;VALUE=DURATION:PT1H
X-Robots-Tag:noindex
X-PUBLISHED-TTL:PT1H
BEGIN:VTIMEZONE
TZID:Europe/Stockholm
BEGIN:DAYLIGHT
TZOFFSETFROM:+0100
TZOFFSETTO:+0200
TZNAME:CEST
DTSTART:20260329T010000
END:DAYLIGHT
BEGIN:STANDARD
TZOFFSETFROM:+0200
TZOFFSETTO:+0100
TZNAME:CET
DTSTART:20261025T010000
END:STANDARD
BEGIN:DAYLIGHT
TZOFFSETFROM:+0100
TZOFFSETTO:+0200
TZNAME:CEST
DTSTART:20270328T010000
END:DAYLIGHT
BEGIN:STANDARD
TZOFFSETFROM:+0200
TZOFFSETTO:+0100
TZNAME:CET
DTSTART:20271031T010000
END:STANDARD
BEGIN:DAYLIGHT
TZOFFSETFROM:+0100
TZOFFSETTO:+0200
TZNAME:CEST
DTSTART:20280326T010000
END:DAYLIGHT
BEGIN:STANDARD
TZOFFSETFROM:+0200
TZOFFSETTO:+0100
TZNAME:CET
DTSTART:20281029T010000
END:STANDARD
END:VTIMEZONE
BEGIN:VEVENT
DTSTART;TZID=Europe/Stockholm:20270117T133000
DTEND;TZID=Europe/Stockholm:20270117T150000
DTSTAMP:20260426T022201
CREATED:20260315T181216Z
LAST-MODIFIED:20260315T181216Z
UID:13522-1800192600-1800198000@vss.nu
SUMMARY:Kaffe framför brasan
DESCRIPTION:Arrangör DSV. Kallelse kommer.
URL:https://vss.nu/event/kaffe-framfor-brasan-3/
LOCATION:Klubbhuset\, Hunduddsvägen 55\, Stockholm\, Sverige
CATEGORIES:DSV
END:VEVENT
BEGIN:VEVENT
DTSTART;VALUE=DATE:20270201
DTEND;VALUE=DATE:20270202
DTSTAMP:20260426T022201
CREATED:20260315T181308Z
LAST-MODIFIED:20260315T181308Z
UID:13525-1801440000-1801526399@vss.nu
SUMMARY:Sista dag för motioner till Årsmötet.
DESCRIPTION:
URL:https://vss.nu/event/sista-dag-for-motioner-till-arsmotet-2/
CATEGORIES:VSS
END:VEVENT
BEGIN:VEVENT
DTSTART;VALUE=DATE:20270205
DTEND;VALUE=DATE:20270206
DTSTAMP:20260426T022201
CREATED:20260315T181423Z
LAST-MODIFIED:20260315T181423Z
UID:13528-1801785600-1801871999@vss.nu
SUMMARY:Sista manusdag för Seglar-Vikingen nr 1
DESCRIPTION:
URL:https://vss.nu/event/sista-manusdag-for-seglar-vikingen-nr-1-2/
CATEGORIES:Seglar-Vikingen
END:VEVENT
BEGIN:VEVENT
DTSTART;TZID=Europe/Stockholm:20270213T113000
DTEND;TZID=Europe/Stockholm:20270213T150000
DTSTAMP:20260426T022201
CREATED:20260315T181546Z
LAST-MODIFIED:20260315T181609Z
UID:13531-1802518200-1802530800@vss.nu
SUMMARY:DSVs årsmöte
DESCRIPTION:DSVs årsmöte med picnic och lottbord. Kallelse kommer.
URL:https://vss.nu/event/dsvs-arsmote/
LOCATION:Klubbhuset\, Hunduddsvägen 55\, Stockholm\, Sverige
CATEGORIES:DSV
END:VEVENT
BEGIN:VEVENT
DTSTART;VALUE=DATE:20270306
DTEND;VALUE=DATE:20270307
DTSTAMP:20260426T022201
CREATED:20260315T181717Z
LAST-MODIFIED:20260315T181717Z
UID:13534-1804291200-1804377599@vss.nu
SUMMARY:Veteranklubbens årsmöte
DESCRIPTION:Kallelse kommer.
URL:https://vss.nu/event/veteranklubbens-arsmote-2/
LOCATION:Klubbhuset\, Hunduddsvägen 55\, Stockholm\, Sverige
CATEGORIES:Veteranklubben
END:VEVENT
BEGIN:VEVENT
DTSTART;TZID=Europe/Stockholm:20270307T100000
DTEND;TZID=Europe/Stockholm:20270307T150000
DTSTAMP:20260426T022201
CREATED:20260315T181843Z
LAST-MODIFIED:20260315T181843Z
UID:13537-1804413600-1804431600@vss.nu
SUMMARY:Städdag
DESCRIPTION:Samling kl. 10.00.
URL:https://vss.nu/event/staddag/
LOCATION:Hundudden\, Hunduddsvägen 55\, Stockholm\, Sverige
CATEGORIES:Arbetstillfälle
END:VEVENT
BEGIN:VEVENT
DTSTART;TZID=Europe/Stockholm:20270318T190000
DTEND;TZID=Europe/Stockholm:20270318T203000
DTSTAMP:20260426T022201
CREATED:20260315T182124Z
LAST-MODIFIED:20260315T182124Z
UID:13540-1805396400-1805401800@vss.nu
SUMMARY:Årsmöte
DESCRIPTION:
URL:https://vss.nu/event/arsmote/
LOCATION:Klubbhuset\, Hunduddsvägen 55\, Stockholm\, Sverige
CATEGORIES:VSS
END:VEVENT
END:VCALENDAR