BEGIN:VCALENDAR
VERSION:2.0
PRODID:-//Vikingarnas Segel Sällskap - ECPv6.15.20//NONSGML v1.0//EN
CALSCALE:GREGORIAN
METHOD:PUBLISH
X-ORIGINAL-URL:https://vss.nu
X-WR-CALDESC:Händelser för Vikingarnas Segel Sällskap
REFRESH-INTERVAL;VALUE=DURATION:PT1H
X-Robots-Tag:noindex
X-PUBLISHED-TTL:PT1H
BEGIN:VTIMEZONE
TZID:Europe/Stockholm
BEGIN:DAYLIGHT
TZOFFSETFROM:+0100
TZOFFSETTO:+0200
TZNAME:CEST
DTSTART:20240331T010000
END:DAYLIGHT
BEGIN:STANDARD
TZOFFSETFROM:+0200
TZOFFSETTO:+0100
TZNAME:CET
DTSTART:20241027T010000
END:STANDARD
BEGIN:DAYLIGHT
TZOFFSETFROM:+0100
TZOFFSETTO:+0200
TZNAME:CEST
DTSTART:20250330T010000
END:DAYLIGHT
BEGIN:STANDARD
TZOFFSETFROM:+0200
TZOFFSETTO:+0100
TZNAME:CET
DTSTART:20251026T010000
END:STANDARD
BEGIN:DAYLIGHT
TZOFFSETFROM:+0100
TZOFFSETTO:+0200
TZNAME:CEST
DTSTART:20260329T010000
END:DAYLIGHT
BEGIN:STANDARD
TZOFFSETFROM:+0200
TZOFFSETTO:+0100
TZNAME:CET
DTSTART:20261025T010000
END:STANDARD
END:VTIMEZONE
BEGIN:VEVENT
DTSTART;VALUE=DATE:20250727
DTEND;VALUE=DATE:20250803
DTSTAMP:20260426T025949
CREATED:20241128T195915Z
LAST-MODIFIED:20241128T195915Z
UID:11875-1753574400-1754179199@vss.nu
SUMMARY:Seglarläger 1 - ungdomsläger
DESCRIPTION:Ungdomsläger på Ekholmen för ungdomar/unga vuxna i åldrarna 16-17 år. \nLäs mer och anmäl dig >
URL:https://vss.nu/event/seglarlager-1-ungdomslager/
LOCATION:Ekholmen\, Storsaxaren\, Vaxholm\, Sverige
CATEGORIES:Ekholmen,Juniorkommittén
END:VEVENT
BEGIN:VEVENT
DTSTART;VALUE=DATE:20250803
DTEND;VALUE=DATE:20250810
DTSTAMP:20260426T025949
CREATED:20241128T200159Z
LAST-MODIFIED:20241128T200259Z
UID:11878-1754179200-1754783999@vss.nu
SUMMARY:Seglarläger 2
DESCRIPTION:Seglarläger på Ekholmen för barn/ungdomar i åldrarna 10-15 år. \nLäs mer och anmäl dig >
URL:https://vss.nu/event/seglarlager-2/
LOCATION:Ekholmen\, Storsaxaren\, Vaxholm\, Sverige
CATEGORIES:Ekholmen,Juniorkommittén
END:VEVENT
BEGIN:VEVENT
DTSTART;VALUE=DATE:20250810
DTEND;VALUE=DATE:20250817
DTSTAMP:20260426T025949
CREATED:20241128T200508Z
LAST-MODIFIED:20241128T200508Z
UID:11883-1754784000-1755388799@vss.nu
SUMMARY:Seglarläger 3
DESCRIPTION:Seglarläger på Ekholmen för barn/ungdomar vuxna i åldrarna 10-15 år. \nLäs mer och anmäl dig >
URL:https://vss.nu/event/seglarlager-3/
LOCATION:Ekholmen\, Storsaxaren\, Vaxholm\, Sverige
CATEGORIES:Ekholmen,Juniorkommittén
END:VEVENT
BEGIN:VEVENT
DTSTART;TZID=Europe/Stockholm:20250812T180000
DTEND;TZID=Europe/Stockholm:20250812T203000
DTSTAMP:20260426T025949
CREATED:20250310T184606Z
LAST-MODIFIED:20250310T184606Z
UID:12150-1755021600-1755030600@vss.nu
SUMMARY:Städkväll på Varvet
DESCRIPTION:Samling kl 18.00\, ingen anmälan.
URL:https://vss.nu/event/stadkvall-pa-varvet-6/
LOCATION:Hundudden\, Hunduddsvägen 55\, Stockholm\, Sverige
CATEGORIES:Arbetstillfälle
END:VEVENT
BEGIN:VEVENT
DTSTART;TZID=Europe/Stockholm:20250821T173000
DTEND;TZID=Europe/Stockholm:20250821T203000
DTSTAMP:20260426T025949
CREATED:20241128T202729Z
LAST-MODIFIED:20241128T202729Z
UID:11907-1755797400-1755808200@vss.nu
SUMMARY:Kvällssegling
DESCRIPTION:Kvällssegling för juniorer\, säsongsstart. \nLäs mer >
URL:https://vss.nu/event/kvallssegling-19/
LOCATION:Hundudden\, Hunduddsvägen 55\, Stockholm\, Sverige
CATEGORIES:Juniorkommittén
END:VEVENT
BEGIN:VEVENT
DTSTART;TZID=Europe/Stockholm:20250823T130000
DTEND;TZID=Europe/Stockholm:20250823T150000
DTSTAMP:20260426T025949
CREATED:20250310T184908Z
LAST-MODIFIED:20250310T184908Z
UID:12156-1755954000-1755961200@vss.nu
SUMMARY:DSVs paketsegling
DESCRIPTION:Skepparmöte kl. 13.00. \nHär gäller det inte att komma först… utan tvåa\, i mitten eller näst sist! Seglingen kräver mycket taktik av de startande\, först att starta på rätt tid mellan Ekholmens flaggstång och flaggstång på Lilla Saxaren\, lite oklart vilken. Segla runt Ekholmen\, mellan Stor-Saxaren och Jansons Frestelse utan att få bottenkänning\, vidare mot röda lysbojen som ska rundas och tillbaka in i sundet mellan Stor-Saxaren och Ekholmen utan att fastna i bleke… Målgång där starten gick. Om det är varmt får man dessutom se upp för vattenkrig… \nFörst i mål får äran\, tvåan får punschen och ett chickt punsch-set och räkna placeringen nr 1 i varpatävlingen\, kommer du i mitten får du paddeln som får användas under nästa års Paketsegling\, och skulle du hamna näst sist blir det lilla punschen. \nStartavgiften är förstås ett paket till värdig motståndare!
URL:https://vss.nu/event/dsvs-paketsegling/
CATEGORIES:DSV,Ekholmen
END:VEVENT
BEGIN:VEVENT
DTSTART;TZID=Europe/Stockholm:20250823T180000
DTEND;TZID=Europe/Stockholm:20250823T235900
DTSTAMP:20260426T025949
CREATED:20250310T184707Z
LAST-MODIFIED:20250310T185157Z
UID:12153-1755972000-1755993540@vss.nu
SUMMARY:Kräftskiva på Ekholmen
DESCRIPTION:Klubbkommittén bjuder på mingelbål på terrassen\, ta med egna kräftor/dryck (eller det du vill äta).
URL:https://vss.nu/event/kraftskiva-pa-ekholmen/
LOCATION:Ekholmen\, Storsaxaren\, Vaxholm\, Sverige
CATEGORIES:Ekholmen,Klubbkommittén
END:VEVENT
BEGIN:VEVENT
DTSTART;TZID=Europe/Stockholm:20250824T100000
DTEND;TZID=Europe/Stockholm:20250824T120000
DTSTAMP:20260426T025949
CREATED:20250310T185030Z
LAST-MODIFIED:20250310T185328Z
UID:12159-1756029600-1756036800@vss.nu
SUMMARY:DSVs Varpamästerskap
DESCRIPTION:Traditionellt Varpamästerskap på ängen.\nVM\, varpamästerskap… Naturstenar används\, man kastar sin sten mellan två pinnar. Herr-\, dam- och barn-klass och kombinationstävling segling/varpa där resultatet från gårdagens paketsegling räknas\, 2:an = 1 poäng\, 1:an = 2 poäng\, sedan är det ”normalt”\, 3:an 3 poäng\, 4:an 4 poäng osv. Tävlande från båten i kombinationstävlingen anges vid anmälan till Paketseglingen. Kast längre än 2 meter från pinnen räknas inte\, efter tre kast på mer än 2 meter från pinnen åker man ut. \nSedan blir det utslagstävling\, och där kan man klara sig långt utan att vara inom 2 meters-gränsen. Här gäller det att komma näst sist för att vinna! \nTävlingen är öppen för alla på Ekholmen\, men för dig som är medlem i VSS önskar vi förstås att du också blir medlem i DSV. Årsavgiften för 2025 är bara 100 kr\, kan betalas på plats\, eller till vårt bankgiro 5216-1486. \nPrisutdelning sker på DSVs Höstmöte 15 november\, då det bjuds på sillunch!
URL:https://vss.nu/event/dsvs-varpamasterskap/
CATEGORIES:DSV,Ekholmen
END:VEVENT
BEGIN:VEVENT
DTSTART;VALUE=DATE:20250828
DTEND;VALUE=DATE:20250829
DTSTAMP:20260426T025949
CREATED:20250310T185455Z
LAST-MODIFIED:20250818T175108Z
UID:12166-1756339200-1756425599@vss.nu
SUMMARY:Sista manusdag Seglar-Vikingen nr 3
DESCRIPTION:
URL:https://vss.nu/event/sista-manusdag-seglar-vikingen-nr-3-2/
CATEGORIES:Seglar-Vikingen
END:VEVENT
BEGIN:VEVENT
DTSTART;TZID=Europe/Stockholm:20250828T173000
DTEND;TZID=Europe/Stockholm:20250828T203000
DTSTAMP:20260426T025949
CREATED:20241128T204159Z
LAST-MODIFIED:20241128T204159Z
UID:11926-1756402200-1756413000@vss.nu
SUMMARY:Kvällssegling
DESCRIPTION:Kvällssegling för juniorer. \nLäs mer >
URL:https://vss.nu/event/kvallssegling-25/
LOCATION:Hundudden\, Hunduddsvägen 55\, Stockholm\, Sverige
CATEGORIES:Juniorkommittén
END:VEVENT
BEGIN:VEVENT
DTSTART;VALUE=DATE:20250830
DTEND;VALUE=DATE:20250831
DTSTAMP:20260426T025949
CREATED:20250825T160757Z
LAST-MODIFIED:20250825T160855Z
UID:12658-1756512000-1756598399@vss.nu
SUMMARY:Träningsdag inför Liros Lilla Värtanregattan 2025
DESCRIPTION:Träningsdag inför söndagens kappsegling med deltagare och tränare från VSS och andra klubbar i Stockholmsområdet.
URL:https://vss.nu/event/traningsdag-infor-liros-lilla-vartanregattan-2025/
LOCATION:Hundudden\, Hunduddsvägen 55\, Stockholm\, Sverige
CATEGORIES:Juniorkommittén,Kappseglingskommittén
END:VEVENT
BEGIN:VEVENT
DTSTART;VALUE=DATE:20250831
DTEND;VALUE=DATE:20250901
DTSTAMP:20260426T025949
CREATED:20250825T160709Z
LAST-MODIFIED:20250825T161004Z
UID:12655-1756598400-1756684799@vss.nu
SUMMARY:Liros Lilla Värtanregattan 2025
DESCRIPTION:Kappsegling för våra ungdomar och andra i Stockholmsområdet
URL:https://vss.nu/event/liros-lilla-vartanregattan-2025/
LOCATION:Hundudden\, Hunduddsvägen 55\, Stockholm\, Sverige
CATEGORIES:Juniorkommittén,Kappseglingskommittén
END:VEVENT
END:VCALENDAR