BEGIN:VCALENDAR
VERSION:2.0
PRODID:-//Vikingarnas Segel Sällskap - ECPv6.15.20//NONSGML v1.0//EN
CALSCALE:GREGORIAN
METHOD:PUBLISH
X-WR-CALNAME:Vikingarnas Segel Sällskap
X-ORIGINAL-URL:https://vss.nu
X-WR-CALDESC:Händelser för Vikingarnas Segel Sällskap
REFRESH-INTERVAL;VALUE=DURATION:PT1H
X-Robots-Tag:noindex
X-PUBLISHED-TTL:PT1H
BEGIN:VTIMEZONE
TZID:Europe/Stockholm
BEGIN:DAYLIGHT
TZOFFSETFROM:+0100
TZOFFSETTO:+0200
TZNAME:CEST
DTSTART:20250330T010000
END:DAYLIGHT
BEGIN:STANDARD
TZOFFSETFROM:+0200
TZOFFSETTO:+0100
TZNAME:CET
DTSTART:20251026T010000
END:STANDARD
BEGIN:DAYLIGHT
TZOFFSETFROM:+0100
TZOFFSETTO:+0200
TZNAME:CEST
DTSTART:20260329T010000
END:DAYLIGHT
BEGIN:STANDARD
TZOFFSETFROM:+0200
TZOFFSETTO:+0100
TZNAME:CET
DTSTART:20261025T010000
END:STANDARD
BEGIN:DAYLIGHT
TZOFFSETFROM:+0100
TZOFFSETTO:+0200
TZNAME:CEST
DTSTART:20270328T010000
END:DAYLIGHT
BEGIN:STANDARD
TZOFFSETFROM:+0200
TZOFFSETTO:+0100
TZNAME:CET
DTSTART:20271031T010000
END:STANDARD
END:VTIMEZONE
BEGIN:VEVENT
DTSTART;TZID=Europe/Stockholm:20260307T120000
DTEND;TZID=Europe/Stockholm:20260307T150000
DTSTAMP:20260425T143209
CREATED:20250310T193758Z
LAST-MODIFIED:20260227T185311Z
UID:12246-1772884800-1772895600@vss.nu
SUMMARY:Veteranklubbens årsmöte
DESCRIPTION:Medlemmar i VSS Veteranklubb kallas till årsmöte\nLördagen den 7 mars 2026 kl. 12.00 i VSS klubbhus\, St. Hundudden. \nVälkomstdrink\nÅrsmötesförhandlingar \nMeny:  Varmrökt lax med tillhörande såser \, skivat kött med tillbehör . Kokt potatis\, grönsaksfat\, smör\, bröd\, dessertost och kex.  Anders hemlagade matjessilltårta.  (Har du någon matallergi\, säg till när du anmäler dig.) \nDryck: Mineralvatten samt alkoholfritt vin ingår.  Vitt/rött vin serveras till självkostnadspris (Öl\, snaps och avec medtages av den som så önskar.)  Kaffe och godbit. \nPris 200 kr\, Betala gärna i förväg till Veteranernas konto PG 82 52 34-8\, BG 689-0339  eller Swish 070-738 81 59 (Anders Kriström) .\nAnmälan senast onsdagen den 4 mars till Bengt Janson\, tel 070 739 99 26\,  eller Anders Kriström\, tel 070 738 81 59. E-post a.kristrom@telia.com \n Välkomna\, medtag gärna gäster! \nÅrsmöteshandlingar (pdf) >\nEkonomisk redogörelse >
URL:https://vss.nu/event/veteranklubbens-arsmote-4/
LOCATION:Klubbhuset\, Hunduddsvägen 55\, Stockholm\, Sverige
CATEGORIES:Veteranklubben
END:VEVENT
BEGIN:VEVENT
DTSTART;TZID=Europe/Stockholm:20260308T100000
DTEND;TZID=Europe/Stockholm:20260308T150000
DTSTAMP:20260425T143209
CREATED:20250310T193900Z
LAST-MODIFIED:20250310T193919Z
UID:12249-1772964000-1772982000@vss.nu
SUMMARY:Städdag
DESCRIPTION:Kallelse kommer.
URL:https://vss.nu/event/staddag-2/
LOCATION:Hundudden\, Hunduddsvägen 55\, Stockholm\, Sverige
CATEGORIES:Arbetstillfälle
END:VEVENT
BEGIN:VEVENT
DTSTART;TZID=Europe/Stockholm:20260326T190000
DTEND;TZID=Europe/Stockholm:20260326T203000
DTSTAMP:20260425T143209
CREATED:20250310T194031Z
LAST-MODIFIED:20250310T194031Z
UID:12253-1774551600-1774557000@vss.nu
SUMMARY:Årsmöte
DESCRIPTION:
URL:https://vss.nu/event/arsmote-4/
LOCATION:Klubbhuset\, Hunduddsvägen 55\, Stockholm\, Sverige
CATEGORIES:VSS
END:VEVENT
BEGIN:VEVENT
DTSTART;VALUE=DATE:20260328
DTEND;VALUE=DATE:20260419
DTSTAMP:20260425T143209
CREATED:20260202T191530Z
LAST-MODIFIED:20260315T175013Z
UID:13291-1774656000-1776556799@vss.nu
SUMMARY:Nattvaktsbokning 2026
DESCRIPTION:2026 års nattvaktsbokning öppnar lördagen den 28 mars kl 07.00 och är öppen t.o.m. 18 april kl 00.00.\nBoka i BAS-registret >
URL:https://vss.nu/event/nattvaktsbokning-2026/
CATEGORIES:VSS
END:VEVENT
END:VCALENDAR